BEGIN:VCALENDAR
VERSION:2.0
PRODID:-//ISEP - ECPv6.2.3//NONSGML v1.0//EN
CALSCALE:GREGORIAN
METHOD:PUBLISH
X-WR-CALNAME:ISEP
X-ORIGINAL-URL:https://isep.nus.edu.sg
X-WR-CALDESC:Events for ISEP
REFRESH-INTERVAL;VALUE=DURATION:PT1H
X-Robots-Tag:noindex
X-PUBLISHED-TTL:PT1H
BEGIN:VTIMEZONE
TZID:Asia/Singapore
BEGIN:STANDARD
TZOFFSETFROM:+0800
TZOFFSETTO:+0800
TZNAME:+08
DTSTART:20190101T000000
END:STANDARD
END:VTIMEZONE
BEGIN:VEVENT
DTSTART;TZID=Asia/Singapore:20190117T160000
DTEND;TZID=Asia/Singapore:20190117T180000
DTSTAMP:20260425T032349
CREATED:20191219T031139Z
LAST-MODIFIED:20200817T072859Z
UID:7621-1547740800-1547748000@isep.nus.edu.sg
SUMMARY:Oral Defense: Shamil Chollampatt Muhammed Ashraf
DESCRIPTION:Translation Models for Grammatical Error Correction
URL:https://isep.nus.edu.sg/event/oral-defense-shamil-chollampatt-muhammed-ashraf/
LOCATION:Meeting Room 6 (AS6-05-10)\, Singapore
CATEGORIES:Oral Defense
END:VEVENT
END:VCALENDAR