BEGIN:VCALENDAR
VERSION:2.0
PRODID:-//ISEP - ECPv6.2.3//NONSGML v1.0//EN
CALSCALE:GREGORIAN
METHOD:PUBLISH
X-ORIGINAL-URL:https://isep.nus.edu.sg
X-WR-CALDESC:Events for ISEP
REFRESH-INTERVAL;VALUE=DURATION:PT1H
X-Robots-Tag:noindex
X-PUBLISHED-TTL:PT1H
BEGIN:VTIMEZONE
TZID:Asia/Singapore
BEGIN:STANDARD
TZOFFSETFROM:+0800
TZOFFSETTO:+0800
TZNAME:+08
DTSTART:20190101T000000
END:STANDARD
END:VTIMEZONE
BEGIN:VEVENT
DTSTART;TZID=Asia/Singapore:20190329T123000
DTEND;TZID=Asia/Singapore:20190329T123000
DTSTAMP:20260420T231458
CREATED:20191223T083348Z
LAST-MODIFIED:20191223T083745Z
UID:8077-1553862600-1553862600@isep.nus.edu.sg
SUMMARY:NGS Monthly Lunch
DESCRIPTION:
URL:https://isep.nus.edu.sg/event/ngs-monthly-lunch-10/
LOCATION:Bar Bar Black Sheep @ UCC\, Singapore
CATEGORIES:Monthly Lunch
END:VEVENT
END:VCALENDAR