BEGIN:VCALENDAR
VERSION:2.0
PRODID:-//ISEP - ECPv6.2.3//NONSGML v1.0//EN
CALSCALE:GREGORIAN
METHOD:PUBLISH
X-ORIGINAL-URL:https://isep.nus.edu.sg
X-WR-CALDESC:Events for ISEP
REFRESH-INTERVAL;VALUE=DURATION:PT1H
X-Robots-Tag:noindex
X-PUBLISHED-TTL:PT1H
BEGIN:VTIMEZONE
TZID:Asia/Singapore
BEGIN:STANDARD
TZOFFSETFROM:+0800
TZOFFSETTO:+0800
TZNAME:+08
DTSTART:20190101T000000
END:STANDARD
END:VTIMEZONE
BEGIN:VEVENT
DTSTART;TZID=Asia/Singapore:20190408T150000
DTEND;TZID=Asia/Singapore:20190408T150000
DTSTAMP:20260424T204407
CREATED:20191223T074412Z
LAST-MODIFIED:20200706T020128Z
UID:8003-1554735600-1554735600@isep.nus.edu.sg
SUMMARY:Oral Defense: Ee Yong Liang
DESCRIPTION:Development of a Novel Plant Holobiont System and its Applications
URL:https://isep.nus.edu.sg/event/oral-defense-ee-yong-liang/
LOCATION:Singapore
CATEGORIES:Oral Defense
END:VEVENT
END:VCALENDAR