BEGIN:VCALENDAR
VERSION:2.0
PRODID:-//ISEP - ECPv6.2.3//NONSGML v1.0//EN
CALSCALE:GREGORIAN
METHOD:PUBLISH
X-WR-CALNAME:ISEP
X-ORIGINAL-URL:https://isep.nus.edu.sg
X-WR-CALDESC:Events for ISEP
REFRESH-INTERVAL;VALUE=DURATION:PT1H
X-Robots-Tag:noindex
X-PUBLISHED-TTL:PT1H
BEGIN:VTIMEZONE
TZID:Asia/Singapore
BEGIN:STANDARD
TZOFFSETFROM:+0800
TZOFFSETTO:+0800
TZNAME:+08
DTSTART:20190101T000000
END:STANDARD
END:VTIMEZONE
BEGIN:VEVENT
DTSTART;TZID=Asia/Singapore:20190409T150000
DTEND;TZID=Asia/Singapore:20190409T150000
DTSTAMP:20260424T220158
CREATED:20191223T074411Z
LAST-MODIFIED:20200706T020130Z
UID:8004-1554822000-1554822000@isep.nus.edu.sg
SUMMARY:Oral Defense: Sun Yi
DESCRIPTION:Development of Soft Robotic Pad Technology for Manta Ray Inspired Robotic Swimmer
URL:https://isep.nus.edu.sg/event/oral-defense-sun-yi/
LOCATION:E3-06-11\, Singapore
CATEGORIES:Oral Defense
END:VEVENT
END:VCALENDAR