BEGIN:VCALENDAR
VERSION:2.0
PRODID:-//ISEP - ECPv6.2.3//NONSGML v1.0//EN
CALSCALE:GREGORIAN
METHOD:PUBLISH
X-WR-CALNAME:ISEP
X-ORIGINAL-URL:https://isep.nus.edu.sg
X-WR-CALDESC:Events for ISEP
REFRESH-INTERVAL;VALUE=DURATION:PT1H
X-Robots-Tag:noindex
X-PUBLISHED-TTL:PT1H
BEGIN:VTIMEZONE
TZID:Asia/Singapore
BEGIN:STANDARD
TZOFFSETFROM:+0800
TZOFFSETTO:+0800
TZNAME:+08
DTSTART:20190101T000000
END:STANDARD
END:VTIMEZONE
BEGIN:VEVENT
DTSTART;TZID=Asia/Singapore:20190410T100000
DTEND;TZID=Asia/Singapore:20190410T100000
DTSTAMP:20260420T231325
CREATED:20191223T074411Z
LAST-MODIFIED:20200706T020130Z
UID:8005-1554890400-1554890400@isep.nus.edu.sg
SUMMARY:Oral Defense: Yuan Qiang
DESCRIPTION:Modelling Angelman Syndrome with Induced Human Neurons
URL:https://isep.nus.edu.sg/event/oral-defense-yuan-qiang/
LOCATION:Singapore
CATEGORIES:Oral Defense
END:VEVENT
BEGIN:VEVENT
DTSTART;TZID=Asia/Singapore:20190410T153000
DTEND;TZID=Asia/Singapore:20190410T153000
DTSTAMP:20260420T231325
CREATED:20191223T083559Z
LAST-MODIFIED:20191223T084833Z
UID:8042-1554910200-1554910200@isep.nus.edu.sg
SUMMARY:NGS T-connexion
DESCRIPTION:
URL:https://isep.nus.edu.sg/event/ngs-t-connexion-6/
LOCATION:Spinelli @ University Hall Level 1\, University Hall (UHT-01-05)\, 21 Kent Ridge Road\, 119077\, Singapore
CATEGORIES:T-connexion
END:VEVENT
END:VCALENDAR