BEGIN:VCALENDAR
VERSION:2.0
PRODID:-//ISEP - ECPv6.2.3//NONSGML v1.0//EN
CALSCALE:GREGORIAN
METHOD:PUBLISH
X-WR-CALNAME:ISEP
X-ORIGINAL-URL:https://isep.nus.edu.sg
X-WR-CALDESC:Events for ISEP
REFRESH-INTERVAL;VALUE=DURATION:PT1H
X-Robots-Tag:noindex
X-PUBLISHED-TTL:PT1H
BEGIN:VTIMEZONE
TZID:Asia/Singapore
BEGIN:STANDARD
TZOFFSETFROM:+0800
TZOFFSETTO:+0800
TZNAME:+08
DTSTART:20190101T000000
END:STANDARD
END:VTIMEZONE
BEGIN:VEVENT
DTSTART;TZID=Asia/Singapore:20190429T150000
DTEND;TZID=Asia/Singapore:20190429T150000
DTSTAMP:20260425T032349
CREATED:20191223T074410Z
LAST-MODIFIED:20200706T020130Z
UID:8011-1556550000-1556550000@isep.nus.edu.sg
SUMMARY:Oral Defense: Chia Chee Geng
DESCRIPTION:Characterisation of ToIQRA Complex and Its Reconstituion Into Liposome
URL:https://isep.nus.edu.sg/event/oral-defense-chia-chee-geng/
LOCATION:Singapore
CATEGORIES:Oral Defense
END:VEVENT
END:VCALENDAR