BEGIN:VCALENDAR
VERSION:2.0
PRODID:-//ISEP - ECPv6.2.3//NONSGML v1.0//EN
CALSCALE:GREGORIAN
METHOD:PUBLISH
X-WR-CALNAME:ISEP
X-ORIGINAL-URL:https://isep.nus.edu.sg
X-WR-CALDESC:Events for ISEP
REFRESH-INTERVAL;VALUE=DURATION:PT1H
X-Robots-Tag:noindex
X-PUBLISHED-TTL:PT1H
BEGIN:VTIMEZONE
TZID:Asia/Singapore
BEGIN:STANDARD
TZOFFSETFROM:+0800
TZOFFSETTO:+0800
TZNAME:+08
DTSTART:20190101T000000
END:STANDARD
END:VTIMEZONE
BEGIN:VEVENT
DTSTART;TZID=Asia/Singapore:20190718T190000
DTEND;TZID=Asia/Singapore:20190718T190000
DTSTAMP:20260421T094121
CREATED:20190702T061954Z
LAST-MODIFIED:20190726T083822Z
UID:2720-1563476400-1563476400@isep.nus.edu.sg
SUMMARY:NGS Commencement Dinner 2019
DESCRIPTION:Congratulations to the Class of 2019 on completing your PhD! \nYou are cordially invited to attend the NGS Commencement Dinner to celebrate the completion of this milestone. We have prepared a halal buffet dinner to celebrate this joyous occasion. \nFor more information\, please do not hesitate to contact Ms Vivien Li at 6516-5524 or ngsllv@nus.edu.sg. \n\nRSVP Here
URL:https://isep.nus.edu.sg/event/ngs-commencement-dinner-2019/
LOCATION:Nexus\, University Hall\, Singapore
ATTACH;FMTTYPE=image/jpeg:https://isep.nus.edu.sg/wp-content/uploads/2019/07/NGS_Commencement_Dinner_2019.jpg
END:VEVENT
END:VCALENDAR