BEGIN:VCALENDAR
VERSION:2.0
PRODID:-//ISEP - ECPv6.2.3//NONSGML v1.0//EN
CALSCALE:GREGORIAN
METHOD:PUBLISH
X-WR-CALNAME:ISEP
X-ORIGINAL-URL:https://isep.nus.edu.sg
X-WR-CALDESC:Events for ISEP
REFRESH-INTERVAL;VALUE=DURATION:PT1H
X-Robots-Tag:noindex
X-PUBLISHED-TTL:PT1H
BEGIN:VTIMEZONE
TZID:Asia/Singapore
BEGIN:STANDARD
TZOFFSETFROM:+0800
TZOFFSETTO:+0800
TZNAME:+08
DTSTART:20190101T000000
END:STANDARD
END:VTIMEZONE
BEGIN:VEVENT
DTSTART;TZID=Asia/Singapore:20190725T124500
DTEND;TZID=Asia/Singapore:20190725T124500
DTSTAMP:20260421T094121
CREATED:20191223T083348Z
LAST-MODIFIED:20191223T083925Z
UID:8081-1564058700-1564058700@isep.nus.edu.sg
SUMMARY:NGS Monthly Lunch
DESCRIPTION:
URL:https://isep.nus.edu.sg/event/ngs-monthly-lunch-6/
LOCATION:UH Linkbridge\, Singapore
CATEGORIES:Monthly Lunch
END:VEVENT
END:VCALENDAR