BEGIN:VCALENDAR
VERSION:2.0
PRODID:-//ISEP - ECPv6.2.3//NONSGML v1.0//EN
CALSCALE:GREGORIAN
METHOD:PUBLISH
X-WR-CALNAME:ISEP
X-ORIGINAL-URL:https://isep.nus.edu.sg
X-WR-CALDESC:Events for ISEP
REFRESH-INTERVAL;VALUE=DURATION:PT1H
X-Robots-Tag:noindex
X-PUBLISHED-TTL:PT1H
BEGIN:VTIMEZONE
TZID:Asia/Singapore
BEGIN:STANDARD
TZOFFSETFROM:+0800
TZOFFSETTO:+0800
TZNAME:+08
DTSTART:20190101T000000
END:STANDARD
END:VTIMEZONE
BEGIN:VEVENT
DTSTART;TZID=Asia/Singapore:20191106T153000
DTEND;TZID=Asia/Singapore:20191106T153000
DTSTAMP:20260421T001615
CREATED:20191223T084125Z
LAST-MODIFIED:20191223T084834Z
UID:8070-1573054200-1573054200@isep.nus.edu.sg
SUMMARY:NGS T-connexion
DESCRIPTION:
URL:https://isep.nus.edu.sg/event/ngs-t-connexion-19/
LOCATION:Spinelli @ University Hall Level 1\, University Hall (UHT-01-05)\, 21 Kent Ridge Road\, 119077\, Singapore
CATEGORIES:T-connexion
END:VEVENT
BEGIN:VEVENT
DTSTART;TZID=Asia/Singapore:20191113T153000
DTEND;TZID=Asia/Singapore:20191113T153000
DTSTAMP:20260421T001615
CREATED:20191223T084125Z
LAST-MODIFIED:20191223T084834Z
UID:8071-1573659000-1573659000@isep.nus.edu.sg
SUMMARY:NGS T-connexion
DESCRIPTION:
URL:https://isep.nus.edu.sg/event/ngs-t-connexion-20/
LOCATION:The Royals Bistro @ University Town\, Town Plaza@University Town\, Singapore
CATEGORIES:T-connexion
END:VEVENT
BEGIN:VEVENT
DTSTART;TZID=Asia/Singapore:20191120T153000
DTEND;TZID=Asia/Singapore:20191120T153000
DTSTAMP:20260421T001615
CREATED:20191223T084125Z
LAST-MODIFIED:20191223T084835Z
UID:8072-1574263800-1574263800@isep.nus.edu.sg
SUMMARY:NGS T-connexion
DESCRIPTION:
URL:https://isep.nus.edu.sg/event/ngs-t-connexion-21/
LOCATION:Spinelli @ Engineering\, Singapore
CATEGORIES:T-connexion
END:VEVENT
BEGIN:VEVENT
DTSTART;TZID=Asia/Singapore:20191127T153000
DTEND;TZID=Asia/Singapore:20191127T153000
DTSTAMP:20260421T001615
CREATED:20191223T084125Z
LAST-MODIFIED:20191223T084906Z
UID:8073-1574868600-1574868600@isep.nus.edu.sg
SUMMARY:NGS T-connexion
DESCRIPTION:
URL:https://isep.nus.edu.sg/event/ngs-t-connexion-22/
LOCATION:Spinelli @ University Hall Level 1\, University Hall (UHT-01-05)\, 21 Kent Ridge Road\, 119077\, Singapore
CATEGORIES:T-connexion
END:VEVENT
END:VCALENDAR