BEGIN:VCALENDAR
VERSION:2.0
PRODID:-//ISEP - ECPv6.2.3//NONSGML v1.0//EN
CALSCALE:GREGORIAN
METHOD:PUBLISH
X-WR-CALNAME:ISEP
X-ORIGINAL-URL:https://isep.nus.edu.sg
X-WR-CALDESC:Events for ISEP
REFRESH-INTERVAL;VALUE=DURATION:PT1H
X-Robots-Tag:noindex
X-PUBLISHED-TTL:PT1H
BEGIN:VTIMEZONE
TZID:Asia/Singapore
BEGIN:STANDARD
TZOFFSETFROM:+0800
TZOFFSETTO:+0800
TZNAME:+08
DTSTART:20190101T000000
END:STANDARD
END:VTIMEZONE
BEGIN:VEVENT
DTSTART;TZID=Asia/Singapore:20200617T153000
DTEND;TZID=Asia/Singapore:20200617T163000
DTSTAMP:20260426T072730
CREATED:20200604T034401Z
LAST-MODIFIED:20201211T045237Z
UID:10130-1592407800-1592411400@isep.nus.edu.sg
SUMMARY:Wednesday Virtual T-Connexion
DESCRIPTION:Registration is via email link. Please contact Irene Chuan (ngscic@nus.edu.sg) if you have any query. \n 
URL:https://isep.nus.edu.sg/event/ngs-wednesday-virtual-t-connexion-2/2020-06-17/
LOCATION:via Zoom\, Singapore
CATEGORIES:T-connexion
END:VEVENT
BEGIN:VEVENT
DTSTART;TZID=Asia/Singapore:20200610T153000
DTEND;TZID=Asia/Singapore:20200610T163000
DTSTAMP:20260426T072730
CREATED:20200604T032535Z
LAST-MODIFIED:20200604T034037Z
UID:10114-1591803000-1591806600@isep.nus.edu.sg
SUMMARY:NGS Wednesday Virtual T-Connexion
DESCRIPTION:Registration is via email link. Please contact Irene Chuan (ngscic@nus.edu.sg) if you have any query.
URL:https://isep.nus.edu.sg/event/ngs-wednesday-virtual-t-connexion/
LOCATION:via Zoom\, Singapore
CATEGORIES:T-connexion
END:VEVENT
BEGIN:VEVENT
DTSTART;TZID=Asia/Singapore:20200603T153000
DTEND;TZID=Asia/Singapore:20200603T163000
DTSTAMP:20260426T072730
CREATED:20200508T070937Z
LAST-MODIFIED:20200604T032202Z
UID:10050-1591198200-1591201800@isep.nus.edu.sg
SUMMARY:NGS Wednesday Virtual T-Connexion
DESCRIPTION:Registration is via email link. Please contact Irene Chuan (ngscic@nus.edu.sg) if you have any query.
URL:https://isep.nus.edu.sg/event/ngs-virtual-t-connexion-4-2020-06-03/
LOCATION:via Zoom\, Singapore
CATEGORIES:T-connexion
END:VEVENT
BEGIN:VEVENT
DTSTART;TZID=Asia/Singapore:20200527T153000
DTEND;TZID=Asia/Singapore:20200527T163000
DTSTAMP:20260426T072730
CREATED:20200508T070937Z
LAST-MODIFIED:20200604T032108Z
UID:9887-1590593400-1590597000@isep.nus.edu.sg
SUMMARY:NGS Wednesday Virtual T-Connexion
DESCRIPTION:Registration is via email link. Please contact Irene Chuan (ngscic@nus.edu.sg) if you have any query.
URL:https://isep.nus.edu.sg/event/ngs-virtual-t-connexion-4/
LOCATION:via Zoom\, Singapore
CATEGORIES:T-connexion
END:VEVENT
BEGIN:VEVENT
DTSTART;TZID=Asia/Singapore:20200525T153000
DTEND;TZID=Asia/Singapore:20200525T163000
DTSTAMP:20260426T072730
CREATED:20200508T071154Z
LAST-MODIFIED:20200521T031034Z
UID:9886-1590420600-1590424200@isep.nus.edu.sg
SUMMARY:NGS Monday Virtual T-Connexion
DESCRIPTION:Registration is via email link. Please contact Irene Chuan (ngscic@nus.edu.sg) if you have any query.
URL:https://isep.nus.edu.sg/event/ngs-virtual-t-connexion-5/
LOCATION:via Zoom\, Singapore
CATEGORIES:T-connexion
END:VEVENT
BEGIN:VEVENT
DTSTART;TZID=Asia/Singapore:20200520T153000
DTEND;TZID=Asia/Singapore:20200520T163000
DTSTAMP:20260426T072730
CREATED:20200508T071231Z
LAST-MODIFIED:20200521T030956Z
UID:9885-1589988600-1589992200@isep.nus.edu.sg
SUMMARY:NGS Wednesday Virtual T-Connexion
DESCRIPTION:Registration is via email link. Please contact Irene Chuan (ngscic@nus.edu.sg) if you have any query.
URL:https://isep.nus.edu.sg/event/ngs-virtual-t-connexion-6/
LOCATION:via Zoom\, Singapore
CATEGORIES:T-connexion
END:VEVENT
BEGIN:VEVENT
DTSTART;TZID=Asia/Singapore:20200518T153000
DTEND;TZID=Asia/Singapore:20200518T163000
DTSTAMP:20260426T072730
CREATED:20200508T071312Z
LAST-MODIFIED:20200508T083424Z
UID:9884-1589815800-1589819400@isep.nus.edu.sg
SUMMARY:NGS Monday Virtual T-Connexion
DESCRIPTION:Registration is via email link. Please contact Irene Chuan (ngscic@nus.edu.sg) if you have any query.
URL:https://isep.nus.edu.sg/event/ngs-virtual-t-connexion-7/
LOCATION:via Zoom\, Singapore
CATEGORIES:T-connexion
END:VEVENT
BEGIN:VEVENT
DTSTART;TZID=Asia/Singapore:20200513T153000
DTEND;TZID=Asia/Singapore:20200513T163000
DTSTAMP:20260426T072730
CREATED:20200508T071407Z
LAST-MODIFIED:20200508T083352Z
UID:9883-1589383800-1589387400@isep.nus.edu.sg
SUMMARY:NGS Wednesday Virtual T-Connexion
DESCRIPTION:Registration is via email link. Please contact Irene Chuan (ngscic@nus.edu.sg) if you have any query.
URL:https://isep.nus.edu.sg/event/ngs-virtual-t-connexion-8/
LOCATION:via Zoom\, Singapore
CATEGORIES:T-connexion
END:VEVENT
BEGIN:VEVENT
DTSTART;TZID=Asia/Singapore:20200511T153000
DTEND;TZID=Asia/Singapore:20200511T163000
DTSTAMP:20260426T072730
CREATED:20200508T071451Z
LAST-MODIFIED:20200508T083248Z
UID:9882-1589211000-1589214600@isep.nus.edu.sg
SUMMARY:NGS Monday Virtual T-Connexion
DESCRIPTION:Registration is via email link. Please contact Irene Chuan (ngscic@nus.edu.sg) if you have any query.
URL:https://isep.nus.edu.sg/event/ngs-virtual-t-connexion-9/
LOCATION:via Zoom\, Singapore
CATEGORIES:T-connexion
END:VEVENT
BEGIN:VEVENT
DTSTART;TZID=Asia/Singapore:20200506T153000
DTEND;TZID=Asia/Singapore:20200506T163000
DTSTAMP:20260426T072730
CREATED:20200508T071604Z
LAST-MODIFIED:20200508T083316Z
UID:9881-1588779000-1588782600@isep.nus.edu.sg
SUMMARY:NGS Wednesday Virtual T-Connexion
DESCRIPTION:Registration is via email link. Please contact Irene Chuan (ngscic@nus.edu.sg) if you have any query.
URL:https://isep.nus.edu.sg/event/ngs-virtual-t-connexion-10/
LOCATION:via Zoom\, Singapore
CATEGORIES:T-connexion
END:VEVENT
BEGIN:VEVENT
DTSTART;TZID=Asia/Singapore:20200504T153000
DTEND;TZID=Asia/Singapore:20200504T163000
DTSTAMP:20260426T072730
CREATED:20200508T071656Z
LAST-MODIFIED:20200508T083133Z
UID:9880-1588606200-1588609800@isep.nus.edu.sg
SUMMARY:NGS Monday Virtual T-Connexion
DESCRIPTION:Registration is via email link. Please contact Irene Chuan (ngscic@nus.edu.sg) if you have any query.
URL:https://isep.nus.edu.sg/event/ngs-virtual-t-connexion-11/
LOCATION:via Zoom\, Singapore
CATEGORIES:T-connexion
END:VEVENT
BEGIN:VEVENT
DTSTART;TZID=Asia/Singapore:20200108T153000
DTEND;TZID=Asia/Singapore:20200108T163000
DTSTAMP:20260426T072730
CREATED:20190613T065606Z
LAST-MODIFIED:20200220T105533Z
UID:7792-1578497400-1578501000@isep.nus.edu.sg
SUMMARY:NGS T-connexion
DESCRIPTION:Midweek tea session – “T-Connexion” for small groups of NGS students to come together to have some meaningful exchanges. For those who are unable to go for the monthly luncheon\, then you might want to join us at this tea session\, held weekly at Spinelli. This is the time for you to take a short break from your research and catch up with your NGS peers over tea or coffee.
URL:https://isep.nus.edu.sg/event/ngs-t-connexion-2020-01-15/2020-01-08/
LOCATION:Spinelli @ University Hall Level 1\, University Hall (UHT-01-05)\, 21 Kent Ridge Road\, 119077\, Singapore
CATEGORIES:T-connexion
ATTACH;FMTTYPE=image/jpeg:https://isep.nus.edu.sg/wp-content/uploads/2019/06/22-May_DSC_1066.jpg
END:VEVENT
BEGIN:VEVENT
DTSTART;TZID=Asia/Singapore:20191204T153000
DTEND;TZID=Asia/Singapore:20191204T153000
DTSTAMP:20260426T072730
CREATED:20191223T084125Z
LAST-MODIFIED:20191223T084906Z
UID:8074-1575473400-1575473400@isep.nus.edu.sg
SUMMARY:NGS T-connexion
DESCRIPTION:
URL:https://isep.nus.edu.sg/event/ngs-t-connexion-23/
LOCATION:Li Ji Coffeehouse @ Science\, Singapore
CATEGORIES:T-connexion
END:VEVENT
BEGIN:VEVENT
DTSTART;TZID=Asia/Singapore:20191127T153000
DTEND;TZID=Asia/Singapore:20191127T153000
DTSTAMP:20260426T072730
CREATED:20191223T084125Z
LAST-MODIFIED:20191223T084906Z
UID:8073-1574868600-1574868600@isep.nus.edu.sg
SUMMARY:NGS T-connexion
DESCRIPTION:
URL:https://isep.nus.edu.sg/event/ngs-t-connexion-22/
LOCATION:Spinelli @ University Hall Level 1\, University Hall (UHT-01-05)\, 21 Kent Ridge Road\, 119077\, Singapore
CATEGORIES:T-connexion
END:VEVENT
BEGIN:VEVENT
DTSTART;TZID=Asia/Singapore:20191120T153000
DTEND;TZID=Asia/Singapore:20191120T153000
DTSTAMP:20260426T072730
CREATED:20191223T084125Z
LAST-MODIFIED:20191223T084835Z
UID:8072-1574263800-1574263800@isep.nus.edu.sg
SUMMARY:NGS T-connexion
DESCRIPTION:
URL:https://isep.nus.edu.sg/event/ngs-t-connexion-21/
LOCATION:Spinelli @ Engineering\, Singapore
CATEGORIES:T-connexion
END:VEVENT
BEGIN:VEVENT
DTSTART;TZID=Asia/Singapore:20191113T153000
DTEND;TZID=Asia/Singapore:20191113T153000
DTSTAMP:20260426T072730
CREATED:20191223T084125Z
LAST-MODIFIED:20191223T084834Z
UID:8071-1573659000-1573659000@isep.nus.edu.sg
SUMMARY:NGS T-connexion
DESCRIPTION:
URL:https://isep.nus.edu.sg/event/ngs-t-connexion-20/
LOCATION:The Royals Bistro @ University Town\, Town Plaza@University Town\, Singapore
CATEGORIES:T-connexion
END:VEVENT
BEGIN:VEVENT
DTSTART;TZID=Asia/Singapore:20191106T153000
DTEND;TZID=Asia/Singapore:20191106T153000
DTSTAMP:20260426T072730
CREATED:20191223T084125Z
LAST-MODIFIED:20191223T084834Z
UID:8070-1573054200-1573054200@isep.nus.edu.sg
SUMMARY:NGS T-connexion
DESCRIPTION:
URL:https://isep.nus.edu.sg/event/ngs-t-connexion-19/
LOCATION:Spinelli @ University Hall Level 1\, University Hall (UHT-01-05)\, 21 Kent Ridge Road\, 119077\, Singapore
CATEGORIES:T-connexion
END:VEVENT
BEGIN:VEVENT
DTSTART;TZID=Asia/Singapore:20191030T153000
DTEND;TZID=Asia/Singapore:20191030T153000
DTSTAMP:20260426T072730
CREATED:20191223T084126Z
LAST-MODIFIED:20191223T084908Z
UID:8069-1572449400-1572449400@isep.nus.edu.sg
SUMMARY:NGS T-connexion
DESCRIPTION:
URL:https://isep.nus.edu.sg/event/ngs-t-connexion-38/
LOCATION:Spinelli @ University Hall Level 1\, University Hall (UHT-01-05)\, 21 Kent Ridge Road\, 119077\, Singapore
CATEGORIES:T-connexion
END:VEVENT
BEGIN:VEVENT
DTSTART;TZID=Asia/Singapore:20191023T153000
DTEND;TZID=Asia/Singapore:20191023T153000
DTSTAMP:20260426T072730
CREATED:20191223T084126Z
LAST-MODIFIED:20191223T084908Z
UID:8068-1571844600-1571844600@isep.nus.edu.sg
SUMMARY:NGS T-connexion
DESCRIPTION:
URL:https://isep.nus.edu.sg/event/ngs-t-connexion-37/
LOCATION:Spinelli @ University Hall Level 1\, University Hall (UHT-01-05)\, 21 Kent Ridge Road\, 119077\, Singapore
CATEGORIES:T-connexion
END:VEVENT
BEGIN:VEVENT
DTSTART;TZID=Asia/Singapore:20191016T153000
DTEND;TZID=Asia/Singapore:20191016T153000
DTSTAMP:20260426T072730
CREATED:20191223T084126Z
LAST-MODIFIED:20191223T084907Z
UID:8067-1571239800-1571239800@isep.nus.edu.sg
SUMMARY:NGS T-connexion
DESCRIPTION:
URL:https://isep.nus.edu.sg/event/ngs-t-connexion-36/
LOCATION:Spinelli @ University Hall Level 1\, University Hall (UHT-01-05)\, 21 Kent Ridge Road\, 119077\, Singapore
CATEGORIES:T-connexion
END:VEVENT
BEGIN:VEVENT
DTSTART;TZID=Asia/Singapore:20191009T153000
DTEND;TZID=Asia/Singapore:20191009T153000
DTSTAMP:20260426T072730
CREATED:20191223T084126Z
LAST-MODIFIED:20191223T084907Z
UID:8066-1570635000-1570635000@isep.nus.edu.sg
SUMMARY:NGS T-connexion
DESCRIPTION:
URL:https://isep.nus.edu.sg/event/ngs-t-connexion-35/
LOCATION:Spinelli @ University Hall Level 1\, University Hall (UHT-01-05)\, 21 Kent Ridge Road\, 119077\, Singapore
CATEGORIES:T-connexion
END:VEVENT
BEGIN:VEVENT
DTSTART;TZID=Asia/Singapore:20191002T153000
DTEND;TZID=Asia/Singapore:20191002T153000
DTSTAMP:20260426T072730
CREATED:20191223T084126Z
LAST-MODIFIED:20191223T084907Z
UID:8065-1570030200-1570030200@isep.nus.edu.sg
SUMMARY:NGS T-connexion
DESCRIPTION:
URL:https://isep.nus.edu.sg/event/ngs-t-connexion-34/
LOCATION:Spinelli @ University Hall Level 1\, University Hall (UHT-01-05)\, 21 Kent Ridge Road\, 119077\, Singapore
CATEGORIES:T-connexion
END:VEVENT
BEGIN:VEVENT
DTSTART;TZID=Asia/Singapore:20190925T153000
DTEND;TZID=Asia/Singapore:20190925T153000
DTSTAMP:20260426T072730
CREATED:20191223T084126Z
LAST-MODIFIED:20191223T084907Z
UID:8064-1569425400-1569425400@isep.nus.edu.sg
SUMMARY:NGS T-connexion
DESCRIPTION:
URL:https://isep.nus.edu.sg/event/ngs-t-connexion-33/
LOCATION:Spinelli @ University Hall Level 1\, University Hall (UHT-01-05)\, 21 Kent Ridge Road\, 119077\, Singapore
CATEGORIES:T-connexion
END:VEVENT
BEGIN:VEVENT
DTSTART;TZID=Asia/Singapore:20190918T153000
DTEND;TZID=Asia/Singapore:20190918T153000
DTSTAMP:20260426T072730
CREATED:20191223T084126Z
LAST-MODIFIED:20191223T084907Z
UID:8063-1568820600-1568820600@isep.nus.edu.sg
SUMMARY:NGS T-connexion
DESCRIPTION:
URL:https://isep.nus.edu.sg/event/ngs-t-connexion-32/
LOCATION:Spinelli @ University Hall Level 1\, University Hall (UHT-01-05)\, 21 Kent Ridge Road\, 119077\, Singapore
CATEGORIES:T-connexion
END:VEVENT
BEGIN:VEVENT
DTSTART;TZID=Asia/Singapore:20190911T153000
DTEND;TZID=Asia/Singapore:20190911T153000
DTSTAMP:20260426T072730
CREATED:20191223T084126Z
LAST-MODIFIED:20191223T084907Z
UID:8062-1568215800-1568215800@isep.nus.edu.sg
SUMMARY:NGS T-connexion
DESCRIPTION:
URL:https://isep.nus.edu.sg/event/ngs-t-connexion-31/
LOCATION:Spinelli @ University Hall Level 1\, University Hall (UHT-01-05)\, 21 Kent Ridge Road\, 119077\, Singapore
CATEGORIES:T-connexion
END:VEVENT
BEGIN:VEVENT
DTSTART;TZID=Asia/Singapore:20190904T153000
DTEND;TZID=Asia/Singapore:20190904T153000
DTSTAMP:20260426T072730
CREATED:20191223T084126Z
LAST-MODIFIED:20191223T084907Z
UID:8061-1567611000-1567611000@isep.nus.edu.sg
SUMMARY:NGS T-connexion
DESCRIPTION:
URL:https://isep.nus.edu.sg/event/ngs-t-connexion-30/
LOCATION:Spinelli @ University Hall Level 1\, University Hall (UHT-01-05)\, 21 Kent Ridge Road\, 119077\, Singapore
CATEGORIES:T-connexion
END:VEVENT
BEGIN:VEVENT
DTSTART;TZID=Asia/Singapore:20190828T153000
DTEND;TZID=Asia/Singapore:20190828T153000
DTSTAMP:20260426T072730
CREATED:20191223T084126Z
LAST-MODIFIED:20191223T084907Z
UID:8060-1567006200-1567006200@isep.nus.edu.sg
SUMMARY:NGS T-connexion
DESCRIPTION:
URL:https://isep.nus.edu.sg/event/ngs-t-connexion-29/
LOCATION:Spinelli @ University Hall Level 1\, University Hall (UHT-01-05)\, 21 Kent Ridge Road\, 119077\, Singapore
CATEGORIES:T-connexion
END:VEVENT
BEGIN:VEVENT
DTSTART;TZID=Asia/Singapore:20190821T153000
DTEND;TZID=Asia/Singapore:20190821T153000
DTSTAMP:20260426T072730
CREATED:20191223T084126Z
LAST-MODIFIED:20191223T084906Z
UID:8059-1566401400-1566401400@isep.nus.edu.sg
SUMMARY:NGS T-connexion
DESCRIPTION:
URL:https://isep.nus.edu.sg/event/ngs-t-connexion-28/
LOCATION:Spinelli @ University Hall Level 1\, University Hall (UHT-01-05)\, 21 Kent Ridge Road\, 119077\, Singapore
CATEGORIES:T-connexion
END:VEVENT
BEGIN:VEVENT
DTSTART;TZID=Asia/Singapore:20190814T153000
DTEND;TZID=Asia/Singapore:20190814T153000
DTSTAMP:20260426T072730
CREATED:20191223T084126Z
LAST-MODIFIED:20191223T084906Z
UID:8058-1565796600-1565796600@isep.nus.edu.sg
SUMMARY:NGS T-connexion
DESCRIPTION:
URL:https://isep.nus.edu.sg/event/ngs-t-connexion-27/
LOCATION:Spinelli @ University Hall Level 1\, University Hall (UHT-01-05)\, 21 Kent Ridge Road\, 119077\, Singapore
CATEGORIES:T-connexion
END:VEVENT
BEGIN:VEVENT
DTSTART;TZID=Asia/Singapore:20190807T153000
DTEND;TZID=Asia/Singapore:20190807T153000
DTSTAMP:20260426T072730
CREATED:20191223T084126Z
LAST-MODIFIED:20191223T084906Z
UID:8057-1565191800-1565191800@isep.nus.edu.sg
SUMMARY:NGS T-connexion
DESCRIPTION:
URL:https://isep.nus.edu.sg/event/ngs-t-connexion-26/
LOCATION:Spinelli @ University Hall Level 1\, University Hall (UHT-01-05)\, 21 Kent Ridge Road\, 119077\, Singapore
CATEGORIES:T-connexion
END:VEVENT
END:VCALENDAR