BEGIN:VCALENDAR
VERSION:2.0
PRODID:-//ISEP - ECPv6.2.3//NONSGML v1.0//EN
CALSCALE:GREGORIAN
METHOD:PUBLISH
X-WR-CALNAME:ISEP
X-ORIGINAL-URL:https://isep.nus.edu.sg
X-WR-CALDESC:Events for ISEP
REFRESH-INTERVAL;VALUE=DURATION:PT1H
X-Robots-Tag:noindex
X-PUBLISHED-TTL:PT1H
BEGIN:VTIMEZONE
TZID:Asia/Singapore
BEGIN:STANDARD
TZOFFSETFROM:+0800
TZOFFSETTO:+0800
TZNAME:+08
DTSTART:20190101T000000
END:STANDARD
END:VTIMEZONE
BEGIN:VEVENT
DTSTART;TZID=Asia/Singapore:20190329T123000
DTEND;TZID=Asia/Singapore:20190329T123000
DTSTAMP:20260423T141759
CREATED:20191223T083348Z
LAST-MODIFIED:20191223T083745Z
UID:8077-1553862600-1553862600@isep.nus.edu.sg
SUMMARY:NGS Monthly Lunch
DESCRIPTION:
URL:https://isep.nus.edu.sg/event/ngs-monthly-lunch-10/
LOCATION:Bar Bar Black Sheep @ UCC\, Singapore
CATEGORIES:Monthly Lunch
END:VEVENT
BEGIN:VEVENT
DTSTART;TZID=Asia/Singapore:20190327T153000
DTEND;TZID=Asia/Singapore:20190327T153000
DTSTAMP:20260423T141759
CREATED:20191223T083559Z
LAST-MODIFIED:20191223T084832Z
UID:8040-1553700600-1553700600@isep.nus.edu.sg
SUMMARY:NGS T-connexion
DESCRIPTION:
URL:https://isep.nus.edu.sg/event/ngs-t-connexion-4/
LOCATION:Spinelli @ University Hall Level 1\, University Hall (UHT-01-05)\, 21 Kent Ridge Road\, 119077\, Singapore
CATEGORIES:T-connexion
END:VEVENT
BEGIN:VEVENT
DTSTART;TZID=Asia/Singapore:20190326T150000
DTEND;TZID=Asia/Singapore:20190326T150000
DTSTAMP:20260423T141759
CREATED:20191223T074951Z
LAST-MODIFIED:20200706T020128Z
UID:8025-1553612400-1553612400@isep.nus.edu.sg
SUMMARY:Oral Defense: He Yingran
DESCRIPTION:Design and Development of Thin-film Composites and Nanocomposites Membranes for Selenium and Arsenic Removal Via Nanofiltration
URL:https://isep.nus.edu.sg/event/oral-defense-he-yingran/
LOCATION:E4-04-03\, Singapore
CATEGORIES:Oral Defense
END:VEVENT
BEGIN:VEVENT
DTSTART;TZID=Asia/Singapore:20190325T100000
DTEND;TZID=Asia/Singapore:20190325T100000
DTSTAMP:20260423T141759
CREATED:20191223T074950Z
LAST-MODIFIED:20200706T020128Z
UID:8024-1553508000-1553508000@isep.nus.edu.sg
SUMMARY:Oral Defense: Samarpita Roy
DESCRIPTION:Metabolic Shift and Niche Differentiation During Denitrifying Phosphorus Removal In a Tropical Climate
URL:https://isep.nus.edu.sg/event/oral-defense-samarpita-roy/
LOCATION:Meeting Room T203\, Uhall\, Singapore
CATEGORIES:Oral Defense
END:VEVENT
BEGIN:VEVENT
DTSTART;TZID=Asia/Singapore:20190320T153000
DTEND;TZID=Asia/Singapore:20190320T153000
DTSTAMP:20260423T141759
CREATED:20191223T083559Z
LAST-MODIFIED:20191223T084832Z
UID:8039-1553095800-1553095800@isep.nus.edu.sg
SUMMARY:NGS T-connexion
DESCRIPTION:
URL:https://isep.nus.edu.sg/event/ngs-t-connexion-3/
LOCATION:Spinelli @ University Hall Level 1\, University Hall (UHT-01-05)\, 21 Kent Ridge Road\, 119077\, Singapore
CATEGORIES:T-connexion
END:VEVENT
BEGIN:VEVENT
DTSTART;TZID=Asia/Singapore:20190313T153000
DTEND;TZID=Asia/Singapore:20190313T153000
DTSTAMP:20260423T141759
CREATED:20191223T083559Z
LAST-MODIFIED:20191223T084832Z
UID:8038-1552491000-1552491000@isep.nus.edu.sg
SUMMARY:NGS T-connexion
DESCRIPTION:
URL:https://isep.nus.edu.sg/event/ngs-t-connexion-2/
LOCATION:Spinelli @ University Hall Level 1\, University Hall (UHT-01-05)\, 21 Kent Ridge Road\, 119077\, Singapore
CATEGORIES:T-connexion
END:VEVENT
BEGIN:VEVENT
DTSTART;TZID=Asia/Singapore:20190308T100000
DTEND;TZID=Asia/Singapore:20190308T100000
DTSTAMP:20260423T141759
CREATED:20191223T074950Z
LAST-MODIFIED:20200706T020128Z
UID:8023-1552039200-1552039200@isep.nus.edu.sg
SUMMARY:Oral Defense: Feng Jiaqi
DESCRIPTION:Stable Radical Based Molecules and Materials
URL:https://isep.nus.edu.sg/event/oral-defense-feng-jiaqi/
LOCATION:Singapore
CATEGORIES:Oral Defense
END:VEVENT
BEGIN:VEVENT
DTSTART;TZID=Asia/Singapore:20190228T100000
DTEND;TZID=Asia/Singapore:20190228T100000
DTSTAMP:20260423T141759
CREATED:20191223T075437Z
LAST-MODIFIED:20200706T020127Z
UID:8028-1551348000-1551348000@isep.nus.edu.sg
SUMMARY:Oral Defense: Goi Chin Lui
DESCRIPTION:Relationship of Community Complexity and Molecular Function in Highly Complex Activated Sludge Microbial Community
URL:https://isep.nus.edu.sg/event/oral-defense-goi-chin-lui/
LOCATION:LSI Meeting Room\, #02-09\, Singapore
CATEGORIES:Oral Defense
END:VEVENT
BEGIN:VEVENT
DTSTART;TZID=Asia/Singapore:20190222T120000
DTEND;TZID=Asia/Singapore:20190222T120000
DTSTAMP:20260423T141759
CREATED:20191223T083349Z
LAST-MODIFIED:20191223T083858Z
UID:8076-1550836800-1550836800@isep.nus.edu.sg
SUMMARY:NGS Monthly Lunch
DESCRIPTION:
URL:https://isep.nus.edu.sg/event/ngs-monthly-lunch-11/
LOCATION:UH Linkbridge\, Singapore
CATEGORIES:Monthly Lunch
END:VEVENT
BEGIN:VEVENT
DTSTART;TZID=Asia/Singapore:20190129T090000
DTEND;TZID=Asia/Singapore:20190129T110000
DTSTAMP:20260423T141759
CREATED:20191219T031239Z
LAST-MODIFIED:20200706T020257Z
UID:7623-1548752400-1548759600@isep.nus.edu.sg
SUMMARY:Oral Defense: Tan Hong Kee
DESCRIPTION:DNMT3B DNA and RNA Interactions\, Sup: Prof Daniel Tenen\, NUS
URL:https://isep.nus.edu.sg/event/oral-defense-tan-hong-kee/
LOCATION:Meeting Room T203\, Singapore
CATEGORIES:Oral Defense
END:VEVENT
BEGIN:VEVENT
DTSTART;TZID=Asia/Singapore:20190125T123000
DTEND;TZID=Asia/Singapore:20190125T123000
DTSTAMP:20260423T141759
CREATED:20191223T083822Z
LAST-MODIFIED:20191223T083850Z
UID:8075-1548419400-1548419400@isep.nus.edu.sg
SUMMARY:NGS Monthly Lunch
DESCRIPTION:
URL:https://isep.nus.edu.sg/event/ngs-monthly-lunch-12/
LOCATION:Bar Bar Black Sheep @ UCC\, Singapore
CATEGORIES:Monthly Lunch
END:VEVENT
BEGIN:VEVENT
DTSTART;TZID=Asia/Singapore:20190118T100000
DTEND;TZID=Asia/Singapore:20190118T100000
DTSTAMP:20260423T141759
CREATED:20191219T031203Z
LAST-MODIFIED:20200706T020257Z
UID:7622-1547805600-1547805600@isep.nus.edu.sg
SUMMARY:Oral Defense: Choo Qing Wei Winnie
DESCRIPTION:The Collaborative Role of Natural Killer Cells and Macrophages in Tumour Cells Surivval/Death\, Sup: Prof Ding Jeak Ling\, NUS
URL:https://isep.nus.edu.sg/event/oral-defense-choo-qing-wei-winnie/
LOCATION:Meeting Room T203\, Singapore
CATEGORIES:Oral Defense
END:VEVENT
BEGIN:VEVENT
DTSTART;TZID=Asia/Singapore:20190117T160000
DTEND;TZID=Asia/Singapore:20190117T180000
DTSTAMP:20260423T141759
CREATED:20191219T031139Z
LAST-MODIFIED:20200817T072859Z
UID:7621-1547740800-1547748000@isep.nus.edu.sg
SUMMARY:Oral Defense: Shamil Chollampatt Muhammed Ashraf
DESCRIPTION:Translation Models for Grammatical Error Correction
URL:https://isep.nus.edu.sg/event/oral-defense-shamil-chollampatt-muhammed-ashraf/
LOCATION:Meeting Room 6 (AS6-05-10)\, Singapore
CATEGORIES:Oral Defense
END:VEVENT
END:VCALENDAR