BEGIN:VCALENDAR
VERSION:2.0
PRODID:-//ISEP - ECPv6.2.3//NONSGML v1.0//EN
CALSCALE:GREGORIAN
METHOD:PUBLISH
X-WR-CALNAME:ISEP
X-ORIGINAL-URL:https://isep.nus.edu.sg
X-WR-CALDESC:Events for ISEP
REFRESH-INTERVAL;VALUE=DURATION:PT1H
X-Robots-Tag:noindex
X-PUBLISHED-TTL:PT1H
BEGIN:VTIMEZONE
TZID:Asia/Singapore
BEGIN:STANDARD
TZOFFSETFROM:+0800
TZOFFSETTO:+0800
TZNAME:+08
DTSTART:20200101T000000
END:STANDARD
END:VTIMEZONE
BEGIN:VEVENT
DTSTART;TZID=Asia/Singapore:20200602T100000
DTEND;TZID=Asia/Singapore:20200602T120000
DTSTAMP:20260420T090835
CREATED:20200526T061206Z
LAST-MODIFIED:20200706T020124Z
UID:9989-1591092000-1591099200@isep.nus.edu.sg
SUMMARY:Oral Defense: Neha Priyadarshini Garg
DESCRIPTION:Autonomous Grasping Under Uncertainty Using POMDPs
URL:https://isep.nus.edu.sg/event/oral-defense-neha-priyadarshini-garg/
LOCATION:via Zoom\, Singapore
CATEGORIES:Oral Defense
END:VEVENT
BEGIN:VEVENT
DTSTART;TZID=Asia/Singapore:20200603T153000
DTEND;TZID=Asia/Singapore:20200603T163000
DTSTAMP:20260420T090835
CREATED:20200508T070937Z
LAST-MODIFIED:20200604T032202Z
UID:10050-1591198200-1591201800@isep.nus.edu.sg
SUMMARY:NGS Wednesday Virtual T-Connexion
DESCRIPTION:Registration is via email link. Please contact Irene Chuan (ngscic@nus.edu.sg) if you have any query.
URL:https://isep.nus.edu.sg/event/ngs-virtual-t-connexion-4-2020-06-03/
LOCATION:via Zoom\, Singapore
CATEGORIES:T-connexion
END:VEVENT
BEGIN:VEVENT
DTSTART;TZID=Asia/Singapore:20200610T153000
DTEND;TZID=Asia/Singapore:20200610T163000
DTSTAMP:20260420T090835
CREATED:20200604T032535Z
LAST-MODIFIED:20200604T034037Z
UID:10114-1591803000-1591806600@isep.nus.edu.sg
SUMMARY:NGS Wednesday Virtual T-Connexion
DESCRIPTION:Registration is via email link. Please contact Irene Chuan (ngscic@nus.edu.sg) if you have any query.
URL:https://isep.nus.edu.sg/event/ngs-wednesday-virtual-t-connexion/
LOCATION:via Zoom\, Singapore
CATEGORIES:T-connexion
END:VEVENT
BEGIN:VEVENT
DTSTART;TZID=Asia/Singapore:20200617T153000
DTEND;TZID=Asia/Singapore:20200617T163000
DTSTAMP:20260420T090835
CREATED:20200604T034401Z
LAST-MODIFIED:20201211T045237Z
UID:10130-1592407800-1592411400@isep.nus.edu.sg
SUMMARY:Wednesday Virtual T-Connexion
DESCRIPTION:Registration is via email link. Please contact Irene Chuan (ngscic@nus.edu.sg) if you have any query. \n 
URL:https://isep.nus.edu.sg/event/ngs-wednesday-virtual-t-connexion-2/2020-06-17/
LOCATION:via Zoom\, Singapore
CATEGORIES:T-connexion
END:VEVENT
BEGIN:VEVENT
DTSTART;TZID=Asia/Singapore:20200727T160000
DTEND;TZID=Asia/Singapore:20200727T200000
DTSTAMP:20260420T090835
CREATED:20200706T015539Z
LAST-MODIFIED:20200706T020123Z
UID:10281-1595865600-1595880000@isep.nus.edu.sg
SUMMARY:Oral Defense: Eric Linardy
DESCRIPTION:Hot Carrier Optoelectronic Phenomena in Van Der Waals Heterostructures
URL:https://isep.nus.edu.sg/event/oral-defense-eric-linardy/
LOCATION:via Zoom\, Singapore
CATEGORIES:Oral Defense
END:VEVENT
BEGIN:VEVENT
DTSTART;TZID=Asia/Singapore:20200728T093000
DTEND;TZID=Asia/Singapore:20200728T123000
DTSTAMP:20260420T090835
CREATED:20200730T062003Z
LAST-MODIFIED:20200730T062003Z
UID:10495-1595928600-1595939400@isep.nus.edu.sg
SUMMARY:NGS Induction Day Aug 2020 and Deanery’s Welcome
DESCRIPTION:A very warm Welcome to the new NGS cohort! Congratulations on being awarded the NGS scholarship. \nAn introductory session under the NGSS programme has been lined up to introduce students to the various aspects of a NGS graduate life in NUS. Through the talks\, students were oriented through the NGS curriculum and the programme requirements\, its unlimited learning opportunities that are open and tips on how to manage the PhD path during their candidature in NUS. \nBriefings were conducted by NGS Deanery\, Office of Student Conduct\, University Counselling Services and Office of Student Affairs (Student Wellness).
URL:https://isep.nus.edu.sg/event/ngs-induction-day-aug-2020-and-deanerys-welcome/
LOCATION:via Zoom\, Singapore
END:VEVENT
BEGIN:VEVENT
DTSTART;TZID=Asia/Singapore:20200729T093000
DTEND;TZID=Asia/Singapore:20200729T123000
DTSTAMP:20260420T090835
CREATED:20200730T062108Z
LAST-MODIFIED:20200730T062108Z
UID:10497-1596015000-1596025800@isep.nus.edu.sg
SUMMARY:NGS Induction Day Aug 2020 Day 2
DESCRIPTION:Day 2 of Induction Day
URL:https://isep.nus.edu.sg/event/ngs-induction-day-aug-2020-day-2/
LOCATION:via Zoom\, Singapore
END:VEVENT
BEGIN:VEVENT
DTSTART;TZID=Asia/Singapore:20200806T190000
DTEND;TZID=Asia/Singapore:20200806T210000
DTSTAMP:20260420T090835
CREATED:20200724T074219Z
LAST-MODIFIED:20200804T012446Z
UID:10318-1596740400-1596747600@isep.nus.edu.sg
SUMMARY:NGS Celebrates
DESCRIPTION:Dear Graduating Class of 2020\, \nThe NGS Deanery and Administration would be delighted if you could join us for an online celebration to mark the completion of your PhD.  Your loved ones are welcome to attend. \nBYO food\, drinks\, party hats\, etc.. \nPlease contact Vivien at ngsllv@nus.edu.sg if you have any enquiry. \n 
URL:https://isep.nus.edu.sg/event/ngs-celebrates/
LOCATION:via Zoom\, Singapore
CATEGORIES:Others
END:VEVENT
BEGIN:VEVENT
DTSTART;TZID=Asia/Singapore:20200813T100000
DTEND;TZID=Asia/Singapore:20200813T100000
DTSTAMP:20260420T090835
CREATED:20200730T051117Z
LAST-MODIFIED:20200730T052603Z
UID:10399-1597312800-1597312800@isep.nus.edu.sg
SUMMARY:GS5002 - Academic Professional Skills and Techniques
DESCRIPTION:Lecture
URL:https://isep.nus.edu.sg/event/gs5002-academic-professional-skills-and-techniques-9/
LOCATION:via Zoom\, Singapore
CATEGORIES:Modules
END:VEVENT
BEGIN:VEVENT
DTSTART;TZID=Asia/Singapore:20200813T141500
DTEND;TZID=Asia/Singapore:20200813T141500
DTSTAMP:20260420T090835
CREATED:20200730T051114Z
LAST-MODIFIED:20200730T052617Z
UID:10408-1597328100-1597328100@isep.nus.edu.sg
SUMMARY:GS6001: Research ethics and scientific integrity
DESCRIPTION:Lecture
URL:https://isep.nus.edu.sg/event/gs6001-research-ethics-and-scientific-integrity-13/
LOCATION:via Zoom\, Singapore
CATEGORIES:Modules
END:VEVENT
BEGIN:VEVENT
DTSTART;TZID=Asia/Singapore:20200814T090000
DTEND;TZID=Asia/Singapore:20200814T120000
DTSTAMP:20260420T090835
CREATED:20200730T051709Z
LAST-MODIFIED:20200730T052844Z
UID:10467-1597395600-1597406400@isep.nus.edu.sg
SUMMARY:GSN6501 - Neuronal Signalling
DESCRIPTION:Lecture
URL:https://isep.nus.edu.sg/event/gsn6501-neuronal-signalling-12/
LOCATION:via Zoom\, Singapore
CATEGORIES:Modules
END:VEVENT
BEGIN:VEVENT
DTSTART;TZID=Asia/Singapore:20200817T150000
DTEND;TZID=Asia/Singapore:20200817T150000
DTSTAMP:20260420T090835
CREATED:20200730T051110Z
LAST-MODIFIED:20200730T052627Z
UID:10421-1597676400-1597676400@isep.nus.edu.sg
SUMMARY:GS6883A - Interface Sciences and Engineering
DESCRIPTION:Lecture
URL:https://isep.nus.edu.sg/event/gs6883a-interface-sciences-and-engineering-10/
LOCATION:via Zoom\, Singapore
CATEGORIES:Modules
END:VEVENT
BEGIN:VEVENT
DTSTART;TZID=Asia/Singapore:20200819T100000
DTEND;TZID=Asia/Singapore:20200819T100000
DTSTAMP:20260420T090835
CREATED:20200730T051117Z
LAST-MODIFIED:20200730T052603Z
UID:10400-1597831200-1597831200@isep.nus.edu.sg
SUMMARY:GS5002 - Academic Professional Skills and Techniques
DESCRIPTION:Lecture
URL:https://isep.nus.edu.sg/event/gs5002-academic-professional-skills-and-techniques-8/
LOCATION:via Zoom\, Singapore
CATEGORIES:Modules
END:VEVENT
BEGIN:VEVENT
DTSTART;TZID=Asia/Singapore:20200820T141500
DTEND;TZID=Asia/Singapore:20200820T141500
DTSTAMP:20260420T090835
CREATED:20200730T051114Z
LAST-MODIFIED:20200730T052619Z
UID:10409-1597932900-1597932900@isep.nus.edu.sg
SUMMARY:GS6001: Research ethics and scientific integrity
DESCRIPTION:Lecture
URL:https://isep.nus.edu.sg/event/gs6001-research-ethics-and-scientific-integrity-12/
LOCATION:via Zoom\, Singapore
CATEGORIES:Modules
END:VEVENT
BEGIN:VEVENT
DTSTART;TZID=Asia/Singapore:20200821T090000
DTEND;TZID=Asia/Singapore:20200821T120000
DTSTAMP:20260420T090835
CREATED:20200730T051709Z
LAST-MODIFIED:20200730T053001Z
UID:10468-1598000400-1598011200@isep.nus.edu.sg
SUMMARY:GSN6501 - Neuronal Signalling
DESCRIPTION:Lecture
URL:https://isep.nus.edu.sg/event/gsn6501-neuronal-signalling-11/
LOCATION:via Zoom\, Singapore
CATEGORIES:Modules
END:VEVENT
BEGIN:VEVENT
DTSTART;TZID=Asia/Singapore:20200826T100000
DTEND;TZID=Asia/Singapore:20200826T100000
DTSTAMP:20260420T090835
CREATED:20200730T051116Z
LAST-MODIFIED:20200730T052603Z
UID:10401-1598436000-1598436000@isep.nus.edu.sg
SUMMARY:GS5002 - Academic Professional Skills and Techniques
DESCRIPTION:Lecture
URL:https://isep.nus.edu.sg/event/gs5002-academic-professional-skills-and-techniques-7/
LOCATION:via Zoom\, Singapore
CATEGORIES:Modules
END:VEVENT
BEGIN:VEVENT
DTSTART;TZID=Asia/Singapore:20200827T141500
DTEND;TZID=Asia/Singapore:20200827T141500
DTSTAMP:20260420T090835
CREATED:20200730T051113Z
LAST-MODIFIED:20200730T052620Z
UID:10410-1598537700-1598537700@isep.nus.edu.sg
SUMMARY:GS6001: Research ethics and scientific integrity
DESCRIPTION:Lecture
URL:https://isep.nus.edu.sg/event/gs6001-research-ethics-and-scientific-integrity-11/
LOCATION:via Zoom\, Singapore
CATEGORIES:Modules
END:VEVENT
BEGIN:VEVENT
DTSTART;TZID=Asia/Singapore:20200827T150000
DTEND;TZID=Asia/Singapore:20200827T170000
DTSTAMP:20260420T090835
CREATED:20200817T072742Z
LAST-MODIFIED:20200817T072742Z
UID:10642-1598540400-1598547600@isep.nus.edu.sg
SUMMARY:Oral Defense: He Fan
DESCRIPTION:Human-Device Interaction in a Smart Environment
URL:https://isep.nus.edu.sg/event/oral-defense-he-fan/
LOCATION:via Zoom\, Singapore
CATEGORIES:Oral Defense
END:VEVENT
BEGIN:VEVENT
DTSTART;TZID=Asia/Singapore:20200828T090000
DTEND;TZID=Asia/Singapore:20200828T120000
DTSTAMP:20260420T090835
CREATED:20200730T051709Z
LAST-MODIFIED:20200730T053118Z
UID:10469-1598605200-1598616000@isep.nus.edu.sg
SUMMARY:GSN6501 - Neuronal Signalling
DESCRIPTION:Lecture
URL:https://isep.nus.edu.sg/event/gsn6501-neuronal-signalling-10/
LOCATION:via Zoom\, Singapore
CATEGORIES:Modules
END:VEVENT
BEGIN:VEVENT
DTSTART;TZID=Asia/Singapore:20200903T100000
DTEND;TZID=Asia/Singapore:20200903T100000
DTSTAMP:20260420T090835
CREATED:20200730T051116Z
LAST-MODIFIED:20200730T052603Z
UID:10402-1599127200-1599127200@isep.nus.edu.sg
SUMMARY:GS5002 - Academic Professional Skills and Techniques
DESCRIPTION:Lecture
URL:https://isep.nus.edu.sg/event/gs5002-academic-professional-skills-and-techniques-6/
LOCATION:via Zoom\, Singapore
CATEGORIES:Modules
END:VEVENT
BEGIN:VEVENT
DTSTART;TZID=Asia/Singapore:20200903T141500
DTEND;TZID=Asia/Singapore:20200903T141500
DTSTAMP:20260420T090835
CREATED:20200730T051113Z
LAST-MODIFIED:20200730T052620Z
UID:10411-1599142500-1599142500@isep.nus.edu.sg
SUMMARY:GS6001: Research ethics and scientific integrity
DESCRIPTION:Lecture
URL:https://isep.nus.edu.sg/event/gs6001-research-ethics-and-scientific-integrity-10/
LOCATION:via Zoom\, Singapore
CATEGORIES:Modules
END:VEVENT
BEGIN:VEVENT
DTSTART;TZID=Asia/Singapore:20200904T090000
DTEND;TZID=Asia/Singapore:20200904T120000
DTSTAMP:20260420T090835
CREATED:20200730T051708Z
LAST-MODIFIED:20200730T054217Z
UID:10470-1599210000-1599220800@isep.nus.edu.sg
SUMMARY:GSN6501 - Neuronal Signalling
DESCRIPTION:Lecture
URL:https://isep.nus.edu.sg/event/gsn6501-neuronal-signalling-9/
LOCATION:via Zoom\, Singapore
CATEGORIES:Modules
END:VEVENT
BEGIN:VEVENT
DTSTART;TZID=Asia/Singapore:20200907T150000
DTEND;TZID=Asia/Singapore:20200907T150000
DTSTAMP:20260420T090835
CREATED:20200730T051110Z
LAST-MODIFIED:20200730T052627Z
UID:10422-1599490800-1599490800@isep.nus.edu.sg
SUMMARY:GS6883A - Interface Sciences and Engineering
DESCRIPTION:Lecture
URL:https://isep.nus.edu.sg/event/gs6883a-interface-sciences-and-engineering-9/
LOCATION:via Zoom\, Singapore
CATEGORIES:Modules
END:VEVENT
BEGIN:VEVENT
DTSTART;TZID=Asia/Singapore:20200908T100000
DTEND;TZID=Asia/Singapore:20200908T120000
DTSTAMP:20260420T090835
CREATED:20200828T075939Z
LAST-MODIFIED:20200828T075939Z
UID:10657-1599559200-1599566400@isep.nus.edu.sg
SUMMARY:Oral Defense: Lim Wei Jie Linus
DESCRIPTION:Development of Protein Based Antifungals
URL:https://isep.nus.edu.sg/event/oral-defense-lim-wei-jie-linus/
LOCATION:via Zoom\, Singapore
CATEGORIES:Oral Defense
END:VEVENT
BEGIN:VEVENT
DTSTART;TZID=Asia/Singapore:20200910T100000
DTEND;TZID=Asia/Singapore:20200910T100000
DTSTAMP:20260420T090835
CREATED:20200730T051116Z
LAST-MODIFIED:20200730T052604Z
UID:10403-1599732000-1599732000@isep.nus.edu.sg
SUMMARY:GS5002 - Academic Professional Skills and Techniques
DESCRIPTION:Lecture
URL:https://isep.nus.edu.sg/event/gs5002-academic-professional-skills-and-techniques-5/
LOCATION:via Zoom\, Singapore
CATEGORIES:Modules
END:VEVENT
BEGIN:VEVENT
DTSTART;TZID=Asia/Singapore:20200910T141500
DTEND;TZID=Asia/Singapore:20200910T141500
DTSTAMP:20260420T090835
CREATED:20200730T051113Z
LAST-MODIFIED:20200730T052620Z
UID:10412-1599747300-1599747300@isep.nus.edu.sg
SUMMARY:GS6001: Research ethics and scientific integrity
DESCRIPTION:Lecture
URL:https://isep.nus.edu.sg/event/gs6001-research-ethics-and-scientific-integrity-9/
LOCATION:via Zoom\, Singapore
CATEGORIES:Modules
END:VEVENT
BEGIN:VEVENT
DTSTART;TZID=Asia/Singapore:20200911T090000
DTEND;TZID=Asia/Singapore:20200911T120000
DTSTAMP:20260420T090835
CREATED:20200730T051708Z
LAST-MODIFIED:20200730T054253Z
UID:10471-1599814800-1599825600@isep.nus.edu.sg
SUMMARY:GSN6501 - Neuronal Signalling
DESCRIPTION:Lecture
URL:https://isep.nus.edu.sg/event/gsn6501-neuronal-signalling-8/
LOCATION:via Zoom\, Singapore
CATEGORIES:Modules
END:VEVENT
BEGIN:VEVENT
DTSTART;TZID=Asia/Singapore:20200914T150000
DTEND;TZID=Asia/Singapore:20200914T150000
DTSTAMP:20260420T090835
CREATED:20200730T051109Z
LAST-MODIFIED:20200730T052627Z
UID:10423-1600095600-1600095600@isep.nus.edu.sg
SUMMARY:GS6883A - Interface Sciences and Engineering
DESCRIPTION:Presentation
URL:https://isep.nus.edu.sg/event/gs6883a-interface-sciences-and-engineering-8/
LOCATION:via Zoom\, Singapore
CATEGORIES:Modules
END:VEVENT
BEGIN:VEVENT
DTSTART;TZID=Asia/Singapore:20200917T100000
DTEND;TZID=Asia/Singapore:20200917T100000
DTSTAMP:20260420T090835
CREATED:20200730T051116Z
LAST-MODIFIED:20200730T052616Z
UID:10404-1600336800-1600336800@isep.nus.edu.sg
SUMMARY:GS5002 - Academic Professional Skills and Techniques
DESCRIPTION:Lecture
URL:https://isep.nus.edu.sg/event/gs5002-academic-professional-skills-and-techniques-4/
LOCATION:via Zoom\, Singapore
CATEGORIES:Modules
END:VEVENT
BEGIN:VEVENT
DTSTART;TZID=Asia/Singapore:20200917T141500
DTEND;TZID=Asia/Singapore:20200917T141500
DTSTAMP:20260420T090835
CREATED:20200730T051112Z
LAST-MODIFIED:20200730T052620Z
UID:10413-1600352100-1600352100@isep.nus.edu.sg
SUMMARY:GS6001: Research ethics and scientific integrity
DESCRIPTION:Lecture
URL:https://isep.nus.edu.sg/event/gs6001-research-ethics-and-scientific-integrity-8/
LOCATION:via Zoom\, Singapore
CATEGORIES:Modules
END:VEVENT
END:VCALENDAR