BEGIN:VCALENDAR
VERSION:2.0
PRODID:-//ISEP - ECPv6.2.3//NONSGML v1.0//EN
CALSCALE:GREGORIAN
METHOD:PUBLISH
X-WR-CALNAME:ISEP
X-ORIGINAL-URL:https://isep.nus.edu.sg
X-WR-CALDESC:Events for ISEP
REFRESH-INTERVAL;VALUE=DURATION:PT1H
X-Robots-Tag:noindex
X-PUBLISHED-TTL:PT1H
BEGIN:VTIMEZONE
TZID:Asia/Singapore
BEGIN:STANDARD
TZOFFSETFROM:+0800
TZOFFSETTO:+0800
TZNAME:+08
DTSTART:20200101T000000
END:STANDARD
END:VTIMEZONE
BEGIN:VEVENT
DTSTART;TZID=Asia/Singapore:20201120T103000
DTEND;TZID=Asia/Singapore:20201120T123000
DTSTAMP:20260420T135811
CREATED:20201104T021116Z
LAST-MODIFIED:20201104T021116Z
UID:11062-1605868200-1605875400@isep.nus.edu.sg
SUMMARY:Oral Defense: Lu Zhenna
DESCRIPTION:Temporal Decision Making: Psychophysical\, Neurophysiological\, and Computational Perspectives
URL:https://isep.nus.edu.sg/event/oral-defense-lu-zhenna/
LOCATION:via Zoom\, Singapore
CATEGORIES:Oral Defense
END:VEVENT
BEGIN:VEVENT
DTSTART;TZID=Asia/Singapore:20201123T100000
DTEND;TZID=Asia/Singapore:20201123T120000
DTSTAMP:20260420T135811
CREATED:20201104T021023Z
LAST-MODIFIED:20201104T021023Z
UID:11063-1606125600-1606132800@isep.nus.edu.sg
SUMMARY:Oral Defense: Jin Yuejiao
DESCRIPTION:Biomechanical Response of the Optic Nerve Head to the Ocular Pulse
URL:https://isep.nus.edu.sg/event/oral-defense-jin-yuejiao/
LOCATION:via Zoom\, Singapore
CATEGORIES:Oral Defense
END:VEVENT
BEGIN:VEVENT
DTSTART;TZID=Asia/Singapore:20201123T150000
DTEND;TZID=Asia/Singapore:20201123T150000
DTSTAMP:20260420T135811
CREATED:20200730T051107Z
LAST-MODIFIED:20200730T052633Z
UID:10430-1606143600-1606143600@isep.nus.edu.sg
SUMMARY:GS6883A - Interface Sciences and Engineering
DESCRIPTION:Exam
URL:https://isep.nus.edu.sg/event/gs6883a-interface-sciences-and-engineering/
LOCATION:via Zoom\, Singapore
CATEGORIES:Modules
END:VEVENT
BEGIN:VEVENT
DTSTART;TZID=Asia/Singapore:20201124T160000
DTEND;TZID=Asia/Singapore:20201124T180000
DTSTAMP:20260420T135811
CREATED:20201104T020015Z
LAST-MODIFIED:20201104T020015Z
UID:11066-1606233600-1606240800@isep.nus.edu.sg
SUMMARY:Oral Defense: Muhammad Huzaifah bin Md Shahrin
DESCRIPTION:Directed Audio Texture Synthesis With Deep Learning
URL:https://isep.nus.edu.sg/event/oral-defense-muhammad-huzaifah-bin-md-shahrin/
LOCATION:via Zoom\, Singapore
CATEGORIES:Oral Defense
END:VEVENT
BEGIN:VEVENT
DTSTART;TZID=Asia/Singapore:20201125T100000
DTEND;TZID=Asia/Singapore:20201125T120000
DTSTAMP:20260420T135811
CREATED:20201104T020925Z
LAST-MODIFIED:20201116T074234Z
UID:11064-1606298400-1606305600@isep.nus.edu.sg
SUMMARY:Oral Defense: Ng Zhen Quan Cavin
DESCRIPTION:Mutli-functional Covellite Prepared via RF Magnetron Spluttering
URL:https://isep.nus.edu.sg/event/oral-defense-ng-zhen-quan-cavin/
LOCATION:via Zoom\, Singapore
CATEGORIES:Oral Defense
END:VEVENT
BEGIN:VEVENT
DTSTART;TZID=Asia/Singapore:20201126T140000
DTEND;TZID=Asia/Singapore:20201126T140000
DTSTAMP:20260420T135811
CREATED:20200730T051110Z
LAST-MODIFIED:20200730T052626Z
UID:10420-1606399200-1606399200@isep.nus.edu.sg
SUMMARY:GS6001: Research ethics and scientific integrity
DESCRIPTION:Exam
URL:https://isep.nus.edu.sg/event/gs6001-research-ethics-and-scientific-integrity/
LOCATION:via Zoom\, Singapore
CATEGORIES:Modules
END:VEVENT
BEGIN:VEVENT
DTSTART;TZID=Asia/Singapore:20201127T150000
DTEND;TZID=Asia/Singapore:20201127T170000
DTSTAMP:20260420T135811
CREATED:20201104T015915Z
LAST-MODIFIED:20201104T015915Z
UID:11067-1606489200-1606496400@isep.nus.edu.sg
SUMMARY:Oral Defense: Debjyoti Ghosh
DESCRIPTION:Voice-Based Interactions for Editing Text on the Go
URL:https://isep.nus.edu.sg/event/oral-defense-debjyoti-ghosh/
LOCATION:via Zoom\, Singapore
CATEGORIES:Oral Defense
END:VEVENT
BEGIN:VEVENT
DTSTART;TZID=Asia/Singapore:20201208T100000
DTEND;TZID=Asia/Singapore:20201208T120000
DTSTAMP:20260420T135811
CREATED:20201202T092346Z
LAST-MODIFIED:20201202T092346Z
UID:11265-1607421600-1607428800@isep.nus.edu.sg
SUMMARY:Oral Defense: Priscilla Boon Li Shan
DESCRIPTION:Multiscale and Integrative Modelling of the Flavivirus C Protein and its Interactions
URL:https://isep.nus.edu.sg/event/oral-defense-priscilla-boon-li-shan/
LOCATION:via Zoom\, Singapore
CATEGORIES:Oral Defense
END:VEVENT
BEGIN:VEVENT
DTSTART;TZID=Asia/Singapore:20201216T160000
DTEND;TZID=Asia/Singapore:20201216T180000
DTSTAMP:20260420T135811
CREATED:20201202T092315Z
LAST-MODIFIED:20201202T092315Z
UID:11266-1608134400-1608141600@isep.nus.edu.sg
SUMMARY:Oral Defense: Tham Jing Rui
DESCRIPTION:Understanding the Mechanism-of-Action of Platinum(II)-Based Type II ICD Inducers Through Purposeful Scaffold Modifications
URL:https://isep.nus.edu.sg/event/oral-defense-tham-jing-rui/
LOCATION:via Zoom\, Singapore
CATEGORIES:Oral Defense
END:VEVENT
BEGIN:VEVENT
DTSTART;TZID=Asia/Singapore:20201222T093000
DTEND;TZID=Asia/Singapore:20201222T113000
DTSTAMP:20260420T135811
CREATED:20201202T092242Z
LAST-MODIFIED:20201202T092242Z
UID:11267-1608629400-1608636600@isep.nus.edu.sg
SUMMARY:Oral Defense: Thorin Jake Duffin
DESCRIPTION:Surface Plasmon Polariton Excitation in Quantum Tunnelling Junctions
URL:https://isep.nus.edu.sg/event/oral-defense-thorin-jake-duffin/
LOCATION:via Zoom\, Singapore
CATEGORIES:Oral Defense
END:VEVENT
BEGIN:VEVENT
DTSTART;TZID=Asia/Singapore:20201223T100000
DTEND;TZID=Asia/Singapore:20201223T120000
DTSTAMP:20260420T135811
CREATED:20201202T092158Z
LAST-MODIFIED:20201202T092158Z
UID:11268-1608717600-1608724800@isep.nus.edu.sg
SUMMARY:Oral Defense: Lim Hui Yi Grace
DESCRIPTION:Dissecting the Role of Keratin Intermediate Filaments in the Early Mammalian Embryo
URL:https://isep.nus.edu.sg/event/oral-defense-lim-hui-yi-grace/
LOCATION:via Zoom\, Singapore
CATEGORIES:Oral Defense
END:VEVENT
BEGIN:VEVENT
DTSTART;TZID=Asia/Singapore:20210114T100000
DTEND;TZID=Asia/Singapore:20210114T120000
DTSTAMP:20260420T135811
CREATED:20210108T061237Z
LAST-MODIFIED:20210108T061237Z
UID:11968-1610618400-1610625600@isep.nus.edu.sg
SUMMARY:GS5002 - Academic Professional Skills and Techniques
DESCRIPTION:Lecture
URL:https://isep.nus.edu.sg/event/gs5002-academic-professional-skills-and-techniques-18/
LOCATION:MPR\, Singapore
CATEGORIES:Modules
END:VEVENT
BEGIN:VEVENT
DTSTART;TZID=Asia/Singapore:20210114T141500
DTEND;TZID=Asia/Singapore:20210114T170000
DTSTAMP:20260420T135811
CREATED:20210108T053120Z
LAST-MODIFIED:20210108T053120Z
UID:11870-1610633700-1610643600@isep.nus.edu.sg
SUMMARY:GS6001: Research ethics and scientific integrity
DESCRIPTION:Lecture
URL:https://isep.nus.edu.sg/event/gs6001-research-ethics-and-scientific-integrity-26/
LOCATION:Zoom Meeting\, Singapore
CATEGORIES:Modules
END:VEVENT
BEGIN:VEVENT
DTSTART;TZID=Asia/Singapore:20210118T150000
DTEND;TZID=Asia/Singapore:20210118T170000
DTSTAMP:20260420T135811
CREATED:20210107T052608Z
LAST-MODIFIED:20210107T095755Z
UID:11844-1610982000-1610989200@isep.nus.edu.sg
SUMMARY:Oral Defense: Tang Chi Sin
DESCRIPTION:Study of Electronic Structures & Correlations in Two-dimensional Transition Metal Dichalcogenides Using Spectroscopic Ellipsometry
URL:https://isep.nus.edu.sg/event/oral-defense-tang-chi-sin/
LOCATION:Zoom\, Singapore
CATEGORIES:Oral Defense
END:VEVENT
BEGIN:VEVENT
DTSTART;TZID=Asia/Singapore:20210118T150000
DTEND;TZID=Asia/Singapore:20210118T170000
DTSTAMP:20260420T135811
CREATED:20210108T050512Z
LAST-MODIFIED:20210108T050512Z
UID:11883-1610982000-1610989200@isep.nus.edu.sg
SUMMARY:GS6883A - Interface Sciences and Engineering
DESCRIPTION:Lecture
URL:https://isep.nus.edu.sg/event/gs6883a-interface-sciences-and-engineering-20/
LOCATION:Zoom Meeting\, Singapore
CATEGORIES:Modules
END:VEVENT
BEGIN:VEVENT
DTSTART;TZID=Asia/Singapore:20210119T140000
DTEND;TZID=Asia/Singapore:20210119T160000
DTSTAMP:20260420T135811
CREATED:20210105T062105Z
LAST-MODIFIED:20210105T062105Z
UID:11811-1611064800-1611072000@isep.nus.edu.sg
SUMMARY:GSS6886 - NGS Seminars
DESCRIPTION:Lecture and Presentation
URL:https://isep.nus.edu.sg/event/gss6886-ngs-seminars/
LOCATION:Zoom\, Singapore
CATEGORIES:Modules
END:VEVENT
BEGIN:VEVENT
DTSTART;TZID=Asia/Singapore:20210120T140000
DTEND;TZID=Asia/Singapore:20210120T160000
DTSTAMP:20260420T135811
CREATED:20210107T052542Z
LAST-MODIFIED:20210107T052542Z
UID:11845-1611151200-1611158400@isep.nus.edu.sg
SUMMARY:Oral Defense: Lim Li Rong
DESCRIPTION:Synthetic Alkaloid Enzymology: Characterization of Clavine Oxidases
URL:https://isep.nus.edu.sg/event/oral-defense-lim-li-rong/
LOCATION:Zoom\, Singapore
CATEGORIES:Oral Defense
END:VEVENT
BEGIN:VEVENT
DTSTART;TZID=Asia/Singapore:20210120T150000
DTEND;TZID=Asia/Singapore:20210120T170000
DTSTAMP:20260420T135811
CREATED:20210108T035608Z
LAST-MODIFIED:20210108T035608Z
UID:11893-1611154800-1611162000@isep.nus.edu.sg
SUMMARY:GS6889B - Academic Skills & Research Ethics
DESCRIPTION:Lecture
URL:https://isep.nus.edu.sg/event/gs6889b-academic-skills-research-ethics-9/
LOCATION:Zoom Meeting\, Singapore
CATEGORIES:Modules
END:VEVENT
BEGIN:VEVENT
DTSTART;TZID=Asia/Singapore:20210120T150000
DTEND;TZID=Asia/Singapore:20210120T170000
DTSTAMP:20260420T135811
CREATED:20210108T061150Z
LAST-MODIFIED:20210108T061150Z
UID:11969-1611154800-1611162000@isep.nus.edu.sg
SUMMARY:GS5002 - Academic Professional Skills and Techniques
DESCRIPTION:Lecture
URL:https://isep.nus.edu.sg/event/gs5002-academic-professional-skills-and-techniques-17/
LOCATION:Zoom Meeting\, Singapore
CATEGORIES:Modules
END:VEVENT
BEGIN:VEVENT
DTSTART;TZID=Asia/Singapore:20210121T100000
DTEND;TZID=Asia/Singapore:20210121T120000
DTSTAMP:20260420T135811
CREATED:20210107T052516Z
LAST-MODIFIED:20210107T052516Z
UID:11846-1611223200-1611230400@isep.nus.edu.sg
SUMMARY:Oral Defense: Sheng Huiwen
DESCRIPTION:Antenna Radiation Pattern Control Using Characteristic Mode Analysis
URL:https://isep.nus.edu.sg/event/oral-defense-sheng-huiwen/
LOCATION:Zoom\, Singapore
CATEGORIES:Oral Defense
END:VEVENT
BEGIN:VEVENT
DTSTART;TZID=Asia/Singapore:20210121T141500
DTEND;TZID=Asia/Singapore:20210121T170000
DTSTAMP:20260420T135811
CREATED:20210108T053043Z
LAST-MODIFIED:20210108T053043Z
UID:11871-1611238500-1611248400@isep.nus.edu.sg
SUMMARY:GS6001: Research ethics and scientific integrity
DESCRIPTION:Lecture
URL:https://isep.nus.edu.sg/event/gs6001-research-ethics-and-scientific-integrity-25/
LOCATION:MPR\, Singapore
CATEGORIES:Modules
END:VEVENT
BEGIN:VEVENT
DTSTART;TZID=Asia/Singapore:20210122T103000
DTEND;TZID=Asia/Singapore:20210122T123000
DTSTAMP:20260420T135811
CREATED:20210107T052451Z
LAST-MODIFIED:20210107T052451Z
UID:11847-1611311400-1611318600@isep.nus.edu.sg
SUMMARY:Oral Defense: Zhang Pan
DESCRIPTION:Study of Cancer Exosomes for Cancer Diagnosis
URL:https://isep.nus.edu.sg/event/oral-defense-zhang-pan/
LOCATION:Zoom\, Singapore
CATEGORIES:Oral Defense
END:VEVENT
BEGIN:VEVENT
DTSTART;TZID=Asia/Singapore:20210126T140000
DTEND;TZID=Asia/Singapore:20210126T160000
DTSTAMP:20260420T135811
CREATED:20210105T062538Z
LAST-MODIFIED:20210105T062538Z
UID:11812-1611669600-1611676800@isep.nus.edu.sg
SUMMARY:GSS6886 - NGS Seminars
DESCRIPTION:Lecture and Presentation
URL:https://isep.nus.edu.sg/event/gss6886-ngs-seminars-9/
LOCATION:Zoom\, Singapore
CATEGORIES:Modules
END:VEVENT
BEGIN:VEVENT
DTSTART;TZID=Asia/Singapore:20210127T150000
DTEND;TZID=Asia/Singapore:20210127T170000
DTSTAMP:20260420T135811
CREATED:20210108T035505Z
LAST-MODIFIED:20210108T035505Z
UID:11894-1611759600-1611766800@isep.nus.edu.sg
SUMMARY:GS6889B - Academic Skills & Research Ethics
DESCRIPTION:Lecture
URL:https://isep.nus.edu.sg/event/gs6889b-academic-skills-research-ethics-8/
LOCATION:Zoom Meeting\, Singapore
CATEGORIES:Modules
END:VEVENT
BEGIN:VEVENT
DTSTART;TZID=Asia/Singapore:20210127T150000
DTEND;TZID=Asia/Singapore:20210127T170000
DTSTAMP:20260420T135811
CREATED:20210108T061114Z
LAST-MODIFIED:20210108T061114Z
UID:11970-1611759600-1611766800@isep.nus.edu.sg
SUMMARY:GS5002 - Academic Professional Skills and Techniques
DESCRIPTION:Lecture
URL:https://isep.nus.edu.sg/event/gs5002-academic-professional-skills-and-techniques-16/
LOCATION:Zoom Meeting\, Singapore
CATEGORIES:Modules
END:VEVENT
BEGIN:VEVENT
DTSTART;TZID=Asia/Singapore:20210128T103000
DTEND;TZID=Asia/Singapore:20210128T123000
DTSTAMP:20260420T135811
CREATED:20210114T082214Z
LAST-MODIFIED:20210114T082214Z
UID:11990-1611829800-1611837000@isep.nus.edu.sg
SUMMARY:Oral Defense: Hue Jun Hao
DESCRIPTION:Orbital-free Density Functionals for Fermion Gases
URL:https://isep.nus.edu.sg/event/oral-defense-hue-jun-hao/
LOCATION:Zoom\, Singapore
END:VEVENT
BEGIN:VEVENT
DTSTART;TZID=Asia/Singapore:20210128T141500
DTEND;TZID=Asia/Singapore:20210128T170000
DTSTAMP:20260420T135811
CREATED:20210108T052942Z
LAST-MODIFIED:20210108T052942Z
UID:11872-1611843300-1611853200@isep.nus.edu.sg
SUMMARY:GS6001: Research ethics and scientific integrity
DESCRIPTION:Lecture
URL:https://isep.nus.edu.sg/event/gs6001-research-ethics-and-scientific-integrity-24/
LOCATION:NGS MPR\, Singapore
CATEGORIES:Modules
END:VEVENT
BEGIN:VEVENT
DTSTART;TZID=Asia/Singapore:20210129T150000
DTEND;TZID=Asia/Singapore:20210129T170000
DTSTAMP:20260420T135811
CREATED:20210107T052408Z
LAST-MODIFIED:20210107T052408Z
UID:11848-1611932400-1611939600@isep.nus.edu.sg
SUMMARY:Oral Defense: Tan Yeong Lan
DESCRIPTION:Hypothermic Conditioning in Acute Drug-induced Liver Toxicity
URL:https://isep.nus.edu.sg/event/oral-defense-tan-yeong-lan/
LOCATION:Zoom\, Singapore
CATEGORIES:Oral Defense
END:VEVENT
BEGIN:VEVENT
DTSTART;TZID=Asia/Singapore:20210201T100000
DTEND;TZID=Asia/Singapore:20210201T120000
DTSTAMP:20260420T135811
CREATED:20210108T050332Z
LAST-MODIFIED:20210108T050332Z
UID:11884-1612173600-1612180800@isep.nus.edu.sg
SUMMARY:GS6883A - Interface Sciences and Engineering
DESCRIPTION:Lecture
URL:https://isep.nus.edu.sg/event/gs6883a-interface-sciences-and-engineering-19/
LOCATION:Zoom Meeting\, Singapore
CATEGORIES:Modules
END:VEVENT
BEGIN:VEVENT
DTSTART;TZID=Asia/Singapore:20210202T140000
DTEND;TZID=Asia/Singapore:20210202T160000
DTSTAMP:20260420T135811
CREATED:20210105T062452Z
LAST-MODIFIED:20210105T062452Z
UID:11813-1612274400-1612281600@isep.nus.edu.sg
SUMMARY:GSS6886 - NGS Seminars
DESCRIPTION:Lecture and Presentation
URL:https://isep.nus.edu.sg/event/gss6886-ngs-seminars-8/
LOCATION:Zoom\, Singapore
CATEGORIES:Modules
END:VEVENT
END:VCALENDAR