BEGIN:VCALENDAR
VERSION:2.0
PRODID:-//ISEP - ECPv6.2.3//NONSGML v1.0//EN
CALSCALE:GREGORIAN
METHOD:PUBLISH
X-WR-CALNAME:ISEP
X-ORIGINAL-URL:https://isep.nus.edu.sg
X-WR-CALDESC:Events for ISEP
REFRESH-INTERVAL;VALUE=DURATION:PT1H
X-Robots-Tag:noindex
X-PUBLISHED-TTL:PT1H
BEGIN:VTIMEZONE
TZID:Asia/Singapore
BEGIN:STANDARD
TZOFFSETFROM:+0800
TZOFFSETTO:+0800
TZNAME:+08
DTSTART:20210101T000000
END:STANDARD
END:VTIMEZONE
BEGIN:VEVENT
DTSTART;TZID=Asia/Singapore:20210412T150000
DTEND;TZID=Asia/Singapore:20210412T170000
DTSTAMP:20260421T123407
CREATED:20210108T045517Z
LAST-MODIFIED:20210108T050852Z
UID:11891-1618239600-1618246800@isep.nus.edu.sg
SUMMARY:GS6883A - Interface Sciences and Engineering
DESCRIPTION:Presentation
URL:https://isep.nus.edu.sg/event/gs6883a-interface-sciences-and-engineering-12/
LOCATION:Zoom Meeting\, Singapore
CATEGORIES:Modules
END:VEVENT
BEGIN:VEVENT
DTSTART;TZID=Asia/Singapore:20210415T141500
DTEND;TZID=Asia/Singapore:20210415T170000
DTSTAMP:20260421T123407
CREATED:20210108T052102Z
LAST-MODIFIED:20210108T052148Z
UID:11881-1618496100-1618506000@isep.nus.edu.sg
SUMMARY:GS6001: Research ethics and scientific integrity
DESCRIPTION:Presentation – Zoom Meeting / MPR (To be confirmed)
URL:https://isep.nus.edu.sg/event/gs6001-research-ethics-and-scientific-integrity-15/
CATEGORIES:Modules
END:VEVENT
BEGIN:VEVENT
DTSTART;TZID=Asia/Singapore:20210416T100000
DTEND;TZID=Asia/Singapore:20210416T120000
DTSTAMP:20260421T123407
CREATED:20210319T031913Z
LAST-MODIFIED:20210319T031913Z
UID:12174-1618567200-1618574400@isep.nus.edu.sg
SUMMARY:PhD Oral Defense: Nah Jie Min
DESCRIPTION:Investigating the Role of Specialized Ribosomes in Erythropoiesis
URL:https://isep.nus.edu.sg/event/phd-oral-defense-nah-jie-min/
LOCATION:Zoom\, Singapore
CATEGORIES:Oral Defense
END:VEVENT
BEGIN:VEVENT
DTSTART;TZID=Asia/Singapore:20210419T150000
DTEND;TZID=Asia/Singapore:20210419T170000
DTSTAMP:20260421T123407
CREATED:20210319T061214Z
LAST-MODIFIED:20210319T061214Z
UID:12178-1618844400-1618851600@isep.nus.edu.sg
SUMMARY:PhD Oral Defense: Shawn Lee Ming Yang
DESCRIPTION:Investigating the Role of Translation Regulation in Virus: Host Interactions in Hand\, Foot and Mouth Disease
URL:https://isep.nus.edu.sg/event/phd-oral-defense-shawn-lee-ming-yang/
LOCATION:Zoom\, Singapore
CATEGORIES:Oral Defense
END:VEVENT
BEGIN:VEVENT
DTSTART;TZID=Asia/Singapore:20210420T100000
DTEND;TZID=Asia/Singapore:20210420T120000
DTSTAMP:20260421T123407
CREATED:20210319T061448Z
LAST-MODIFIED:20210407T025851Z
UID:12180-1618912800-1618920000@isep.nus.edu.sg
SUMMARY:PhD Oral Defense: Tan Wee Boon
DESCRIPTION:Genomic Approaches Toward Understanding Gram-negative Bacterial Outer Membrane Homeostasis
URL:https://isep.nus.edu.sg/event/phd-oral-defense-tan-wee-boon/
LOCATION:CELS Auditorium\, Centre for Life Sciences\, 28 Medical Drive\, Level 1\, 117456\, Singapore
CATEGORIES:Oral Defense
END:VEVENT
BEGIN:VEVENT
DTSTART;TZID=Asia/Singapore:20210420T150000
DTEND;TZID=Asia/Singapore:20210420T170000
DTSTAMP:20260421T123407
CREATED:20210319T060908Z
LAST-MODIFIED:20210407T025648Z
UID:12176-1618930800-1618938000@isep.nus.edu.sg
SUMMARY:PhD Oral Defense: Liew Yan Han
DESCRIPTION:Impacts of Precipitates and Electrochemical Aspects of Localised Corrosion in Industrial Alloys
URL:https://isep.nus.edu.sg/event/phd-oral-defense-liew-yan-han/
LOCATION:Zoom\, Singapore
CATEGORIES:Oral Defense
END:VEVENT
BEGIN:VEVENT
DTSTART;TZID=Asia/Singapore:20210426T150000
DTEND;TZID=Asia/Singapore:20210426T170000
DTSTAMP:20260421T123407
CREATED:20210108T045218Z
LAST-MODIFIED:20210108T050733Z
UID:11892-1619449200-1619456400@isep.nus.edu.sg
SUMMARY:GS6883A - Interface Sciences and Engineering
DESCRIPTION:Exam
URL:https://isep.nus.edu.sg/event/gs6883a-interface-sciences-and-engineering-11/
LOCATION:Zoom Meeting\, Singapore
CATEGORIES:Modules
END:VEVENT
BEGIN:VEVENT
DTSTART;TZID=Asia/Singapore:20210428T100000
DTEND;TZID=Asia/Singapore:20210428T120000
DTSTAMP:20260421T123407
CREATED:20210319T070307Z
LAST-MODIFIED:20210319T070307Z
UID:12183-1619604000-1619611200@isep.nus.edu.sg
SUMMARY:PhD Oral Defense: Yvonne Lim Xinyi
DESCRIPTION:Functions\, Regulation and Mechanisms of WBP2 in Breast Cancer
URL:https://isep.nus.edu.sg/event/phd-oral-defense-yvonne-lim-xinyi/
LOCATION:Zoom\, Singapore
CATEGORIES:Oral Defense
END:VEVENT
BEGIN:VEVENT
DTSTART;TZID=Asia/Singapore:20210429T100000
DTEND;TZID=Asia/Singapore:20210429T120000
DTSTAMP:20260421T123407
CREATED:20210319T070512Z
LAST-MODIFIED:20210319T070512Z
UID:12185-1619690400-1619697600@isep.nus.edu.sg
SUMMARY:PhD Oral Defense: Wang Xiaowei
DESCRIPTION:The Development of Organic Redox-Active Materials for Batteries
URL:https://isep.nus.edu.sg/event/phd-oral-defense-wang-xiaowei/
LOCATION:Zoom\, Singapore
CATEGORIES:Oral Defense
END:VEVENT
BEGIN:VEVENT
DTSTART;TZID=Asia/Singapore:20210429T141500
DTEND;TZID=Asia/Singapore:20210429T170000
DTSTAMP:20260421T123407
CREATED:20210108T051951Z
LAST-MODIFIED:20210108T051951Z
UID:11882-1619705700-1619715600@isep.nus.edu.sg
SUMMARY:GS6001: Research ethics and scientific integrity
DESCRIPTION:Exam
URL:https://isep.nus.edu.sg/event/gs6001-research-ethics-and-scientific-integrity-14/
CATEGORIES:Modules
END:VEVENT
BEGIN:VEVENT
DTSTART;TZID=Asia/Singapore:20210429T150000
DTEND;TZID=Asia/Singapore:20210429T170000
DTSTAMP:20260421T123407
CREATED:20210319T072157Z
LAST-MODIFIED:20210319T072157Z
UID:12187-1619708400-1619715600@isep.nus.edu.sg
SUMMARY:PhD Oral Defense: Zhang Li
DESCRIPTION:Brain Delivery of Antioxidant and Anti-Inflammatory Drugs as Potential Treatment for Alzheimer’s Disease: Pharmacokinetics\, Pharmacodynamics\, and Metabolomics
URL:https://isep.nus.edu.sg/event/phd-oral-defense-zhang-li/
LOCATION:Zoom\, Singapore
CATEGORIES:Oral Defense
END:VEVENT
BEGIN:VEVENT
DTSTART;TZID=Asia/Singapore:20210430T100000
DTEND;TZID=Asia/Singapore:20210430T120000
DTSTAMP:20260421T123407
CREATED:20210319T072420Z
LAST-MODIFIED:20210319T072420Z
UID:12189-1619776800-1619784000@isep.nus.edu.sg
SUMMARY:PhD Oral Defense: Poh Eng Tuan
DESCRIPTION:Molybdenum Disulphide and Lanthanide Based Hybrid Nanomaterials for Optical and Magnetic Applications
URL:https://isep.nus.edu.sg/event/phd-oral-defense-poh-eng-tuan/
LOCATION:Zoom\, Singapore
CATEGORIES:Oral Defense
END:VEVENT
BEGIN:VEVENT
DTSTART;TZID=Asia/Singapore:20210430T150000
DTEND;TZID=Asia/Singapore:20210430T170000
DTSTAMP:20260421T123407
CREATED:20210319T091521Z
LAST-MODIFIED:20210319T091521Z
UID:12192-1619794800-1619802000@isep.nus.edu.sg
SUMMARY:PhD Oral Defense: Kang Wei Cherng Malvin
DESCRIPTION:Nanoparticle Approach to Cancer Immunotherapy
URL:https://isep.nus.edu.sg/event/phd-oral-defense-kang-wei-cherng-malvin/
LOCATION:Zoom\, Singapore
CATEGORIES:Oral Defense
END:VEVENT
BEGIN:VEVENT
DTSTART;TZID=Asia/Singapore:20210506T100000
DTEND;TZID=Asia/Singapore:20210506T120000
DTSTAMP:20260421T123407
CREATED:20210504T045341Z
LAST-MODIFIED:20210504T045341Z
UID:12604-1620295200-1620302400@isep.nus.edu.sg
SUMMARY:PhD Oral Defense: Chua En Hui Rebekah
DESCRIPTION:Electronic and Magnetic Properties of 2D Magnetic Materials
URL:https://isep.nus.edu.sg/event/phd-oral-defense-chua-en-hui-rebekah/
LOCATION:Zoom\, Singapore
CATEGORIES:Oral Defense
END:VEVENT
BEGIN:VEVENT
DTSTART;TZID=Asia/Singapore:20210506T193000
DTEND;TZID=Asia/Singapore:20210506T213000
DTSTAMP:20260421T123407
CREATED:20210504T061634Z
LAST-MODIFIED:20210504T061634Z
UID:12606-1620329400-1620336600@isep.nus.edu.sg
SUMMARY:ISEP Career Talk 2021
DESCRIPTION:Mark this date and have a chat with our fellow alumnus as they share their work experience and the industry.
URL:https://isep.nus.edu.sg/event/isep-career-talk-2021/
LOCATION:Zoom\, Singapore
CATEGORIES:Others
END:VEVENT
BEGIN:VEVENT
DTSTART;TZID=Asia/Singapore:20210629T130000
DTEND;TZID=Asia/Singapore:20210629T150000
DTSTAMP:20260421T123407
CREATED:20210624T035716Z
LAST-MODIFIED:20210624T035927Z
UID:12710-1624971600-1624978800@isep.nus.edu.sg
SUMMARY:ISEP e-Commencement Ceremony
DESCRIPTION:Congratulations to Classes of 2020 and 2021!! \n\n\n\nVirtual Commencement Ceremony 27 for: \nIntegrative Sciences and Engineering Programme\, Centre For Quantum Technologies\, Mechanobiology Institute \n(Class of 2020 will be presented first\, followed by Class of 2021) \nDoctor of Philosophy\n(NUS-Imperial College London Joint Degree Programme) \nDoctor of Philosophy \nConcurrent Degree Programmes \nDoctor of Philosophy\n(Centre For Quantum Technologies) \nDoctor of Philosophy\n(Mechanobiology Institute)
URL:https://isep.nus.edu.sg/event/isep-e-commencement-ceremony/
LOCATION:Webcast\, https://www.nus.edu.sg/commencement/index.html
CATEGORIES:Others
END:VEVENT
BEGIN:VEVENT
DTSTART;TZID=Asia/Singapore:20210729T093000
DTEND;TZID=Asia/Singapore:20210729T123000
DTSTAMP:20260421T123407
CREATED:20210727T031901Z
LAST-MODIFIED:20210727T031901Z
UID:12797-1627551000-1627561800@isep.nus.edu.sg
SUMMARY:ISEP e-Induction Day Aug 2021
DESCRIPTION:
URL:https://isep.nus.edu.sg/event/isep-e-induction-day-aug-2021/
LOCATION:via Zoom\, Singapore
END:VEVENT
BEGIN:VEVENT
DTSTART;TZID=Asia/Singapore:20210730T093000
DTEND;TZID=Asia/Singapore:20210730T123000
DTSTAMP:20260421T123407
CREATED:20210727T031942Z
LAST-MODIFIED:20210727T031942Z
UID:12799-1627637400-1627648200@isep.nus.edu.sg
SUMMARY:ISEP e-Induction Day Aug 2021
DESCRIPTION:
URL:https://isep.nus.edu.sg/event/isep-e-induction-day-aug-2021-2/
LOCATION:via Zoom\, Singapore
END:VEVENT
BEGIN:VEVENT
DTSTART;TZID=Asia/Singapore:20210826T150000
DTEND;TZID=Asia/Singapore:20210826T170000
DTSTAMP:20260421T123407
CREATED:20210820T033103Z
LAST-MODIFIED:20210820T033502Z
UID:12822-1629990000-1629997200@isep.nus.edu.sg
SUMMARY:PhD Oral Defense: Tan Wei Siong Hayden
DESCRIPTION:Autophagic Secretion of Mitochondria Denotes a Novel Mitochondria Quality Control Pathway
URL:https://isep.nus.edu.sg/event/phd-oral-defense-tan-wei-siong-hayden/
LOCATION:Zoom\, Singapore
CATEGORIES:Oral Defense
END:VEVENT
BEGIN:VEVENT
DTSTART;TZID=Asia/Singapore:20210830T100000
DTEND;TZID=Asia/Singapore:20210830T120000
DTSTAMP:20260421T123407
CREATED:20210820T033331Z
LAST-MODIFIED:20210820T033331Z
UID:12824-1630317600-1630324800@isep.nus.edu.sg
SUMMARY:PhD Oral Defense: Chong Cheng Shoong
DESCRIPTION:Computational Analysis of Missense Variants Linked to Inter – Individual Variability in Human Diseases and Drug Treatment
URL:https://isep.nus.edu.sg/event/phd-oral-defense-chong-cheng-shoong/
CATEGORIES:Oral Defense
END:VEVENT
BEGIN:VEVENT
DTSTART;TZID=Asia/Singapore:20210913T150000
DTEND;TZID=Asia/Singapore:20210913T170000
DTSTAMP:20260421T123407
CREATED:20210908T032621Z
LAST-MODIFIED:20210908T032621Z
UID:12841-1631545200-1631552400@isep.nus.edu.sg
SUMMARY:PhD Oral Defense: Oh Jin An Sam
DESCRIPTION:Sodium Metal Solid – State Battery Based on Nasicon Electrolyte
URL:https://isep.nus.edu.sg/event/phd-oral-defense-oh-jin-an-sam/
LOCATION:Zoom\, Singapore
CATEGORIES:Oral Defense
END:VEVENT
BEGIN:VEVENT
DTSTART;TZID=Asia/Singapore:20210921T100000
DTEND;TZID=Asia/Singapore:20210921T120000
DTSTAMP:20260421T123407
CREATED:20210908T032900Z
LAST-MODIFIED:20210908T032900Z
UID:12843-1632218400-1632225600@isep.nus.edu.sg
SUMMARY:PhD Oral Defense: Mei\, Weidong
DESCRIPTION:Advanced Interference Mitigation Techniques for Cellular-connected Drone Communication
URL:https://isep.nus.edu.sg/event/phd-oral-defense-mei-weidong/
LOCATION:Zoom\, Singapore
CATEGORIES:Oral Defense
END:VEVENT
BEGIN:VEVENT
DTSTART;TZID=Asia/Singapore:20210923T150000
DTEND;TZID=Asia/Singapore:20210923T170000
DTSTAMP:20260421T123407
CREATED:20210908T033058Z
LAST-MODIFIED:20210908T033058Z
UID:12845-1632409200-1632416400@isep.nus.edu.sg
SUMMARY:PhD Oral Defense: Cheah U-Jin Joshua
DESCRIPTION:Nanoparticle – Assisted Polarization of Macrophages
URL:https://isep.nus.edu.sg/event/phd-oral-defense-cheah-u-jin-joshua/
LOCATION:Zoom\, Singapore
CATEGORIES:Oral Defense
END:VEVENT
BEGIN:VEVENT
DTSTART;TZID=Asia/Singapore:20211019T133000
DTEND;TZID=Asia/Singapore:20211019T153000
DTSTAMP:20260421T123407
CREATED:20211018T082215Z
LAST-MODIFIED:20211018T082341Z
UID:12966-1634650200-1634657400@isep.nus.edu.sg
SUMMARY:PhD Oral Defense: Tan Keng Foo Elijah
DESCRIPTION:Biomaterials for the Image-Based Analyses of High-Throughput 3D Hepatic Cultures
URL:https://isep.nus.edu.sg/event/phd-oral-defense-tan-keng-foo-elijah/
LOCATION:Zoom\, Singapore
CATEGORIES:Oral Defense
END:VEVENT
BEGIN:VEVENT
DTSTART;TZID=Asia/Singapore:20211028T110000
DTEND;TZID=Asia/Singapore:20211028T130000
DTSTAMP:20260421T123407
CREATED:20211018T074020Z
LAST-MODIFIED:20211018T074816Z
UID:12955-1635418800-1635426000@isep.nus.edu.sg
SUMMARY:PhD Oral Defense: Yeow Jiang
DESCRIPTION:Biochemical Approaches Towards Elucidating the Mechanism of Phospholipid Transport in Escherichia Coli
URL:https://isep.nus.edu.sg/event/phd-oral-defense-yeow-jiang/
LOCATION:CELS Auditorium\, Centre for Life Sciences\, 28 Medical Drive\, Level 1\, 117456\, Singapore
CATEGORIES:Oral Defense
END:VEVENT
BEGIN:VEVENT
DTSTART;TZID=Asia/Singapore:20211028T133000
DTEND;TZID=Asia/Singapore:20211028T153000
DTSTAMP:20260421T123407
CREATED:20211018T082048Z
LAST-MODIFIED:20211018T082305Z
UID:12962-1635427800-1635435000@isep.nus.edu.sg
SUMMARY:PhD Oral Defense: Zhao Yue
DESCRIPTION:Stretchable Conductor: Three-dimensional Metal-elastomer Composite for Wearable and Flexible Electronic Devices
URL:https://isep.nus.edu.sg/event/phd-oral-defense-zhao-yue/
LOCATION:Zoom\, Singapore
CATEGORIES:Oral Defense
END:VEVENT
BEGIN:VEVENT
DTSTART;TZID=Asia/Singapore:20211101T150000
DTEND;TZID=Asia/Singapore:20211101T170000
DTSTAMP:20260421T123407
CREATED:20211026T065644Z
LAST-MODIFIED:20211026T065644Z
UID:13021-1635778800-1635786000@isep.nus.edu.sg
SUMMARY:PhD Oral Defense: Zhang Lian
DESCRIPTION:Low – Noise\, Low – Power\, Miniaturized Sensor Interface Circuits for Wearable Healthcare Applications
URL:https://isep.nus.edu.sg/event/phd-oral-defense-zhang-lian/
LOCATION:Zoom\, Singapore
CATEGORIES:Oral Defense
END:VEVENT
BEGIN:VEVENT
DTSTART;TZID=Asia/Singapore:20211110T140000
DTEND;TZID=Asia/Singapore:20211110T160000
DTSTAMP:20260421T123407
CREATED:20211026T065823Z
LAST-MODIFIED:20211026T065914Z
UID:13024-1636552800-1636560000@isep.nus.edu.sg
SUMMARY:PhD Oral Defense: Chen Jiaqing
DESCRIPTION:The Interplay of PFKP and AMPK in Metabolic Stress in Lung Cancer
URL:https://isep.nus.edu.sg/event/phd-oral-defense-chen-jiaqing/
LOCATION:Zoom\, Singapore
CATEGORIES:Oral Defense
END:VEVENT
BEGIN:VEVENT
DTSTART;TZID=Asia/Singapore:20211116T150000
DTEND;TZID=Asia/Singapore:20211116T170000
DTSTAMP:20260421T123407
CREATED:20211026T070039Z
LAST-MODIFIED:20211026T070039Z
UID:13026-1637074800-1637082000@isep.nus.edu.sg
SUMMARY:PhD Oral Defense: Wong Ruixiong
DESCRIPTION:Post-transcriptional Modifications of Cav1.3 Channel Divesify its Role in Presynaptic and Postsynaptic Mechanisms
URL:https://isep.nus.edu.sg/event/phd-oral-defense-wong-ruixiong/
LOCATION:Zoom\, Singapore
CATEGORIES:Oral Defense
END:VEVENT
BEGIN:VEVENT
DTSTART;TZID=Asia/Singapore:20211117T150000
DTEND;TZID=Asia/Singapore:20211117T170000
DTSTAMP:20260421T123407
CREATED:20211026T070208Z
LAST-MODIFIED:20211026T070208Z
UID:13028-1637161200-1637168400@isep.nus.edu.sg
SUMMARY:PhD Oral Defense: Johnathan Lee Joo Cheng
DESCRIPTION:O-containing Polycyclic Heteroatomic Aromatic Hydrocarbons with Different Topologies\, Structures and Physical Properties
URL:https://isep.nus.edu.sg/event/phd-oral-defense-johnathan-lee-joo-cheng/
LOCATION:Zoom\, Singapore
CATEGORIES:Oral Defense
END:VEVENT
END:VCALENDAR