BEGIN:VCALENDAR
VERSION:2.0
PRODID:-//ISEP - ECPv6.2.3//NONSGML v1.0//EN
CALSCALE:GREGORIAN
METHOD:PUBLISH
X-WR-CALNAME:ISEP
X-ORIGINAL-URL:https://isep.nus.edu.sg
X-WR-CALDESC:Events for ISEP
REFRESH-INTERVAL;VALUE=DURATION:PT1H
X-Robots-Tag:noindex
X-PUBLISHED-TTL:PT1H
BEGIN:VTIMEZONE
TZID:Asia/Singapore
BEGIN:STANDARD
TZOFFSETFROM:+0800
TZOFFSETTO:+0800
TZNAME:+08
DTSTART:20200101T000000
END:STANDARD
END:VTIMEZONE
BEGIN:VEVENT
DTSTART;TZID=Asia/Singapore:20201102T150000
DTEND;TZID=Asia/Singapore:20201102T150000
DTSTAMP:20260419T231419
CREATED:20200730T051108Z
LAST-MODIFIED:20200730T052630Z
UID:10428-1604329200-1604329200@isep.nus.edu.sg
SUMMARY:GS6883A - Interface Sciences and Engineering
DESCRIPTION:Lecture
URL:https://isep.nus.edu.sg/event/gs6883a-interface-sciences-and-engineering-3/
LOCATION:via Zoom\, Singapore
CATEGORIES:Modules
END:VEVENT
BEGIN:VEVENT
DTSTART;TZID=Asia/Singapore:20201105T141500
DTEND;TZID=Asia/Singapore:20201105T141500
DTSTAMP:20260419T231419
CREATED:20200730T051111Z
LAST-MODIFIED:20200730T052626Z
UID:10419-1604585700-1604585700@isep.nus.edu.sg
SUMMARY:GS6001: Research ethics and scientific integrity
DESCRIPTION:Presentation
URL:https://isep.nus.edu.sg/event/gs6001-research-ethics-and-scientific-integrity-2/
LOCATION:via Zoom\, Singapore
CATEGORIES:Modules
END:VEVENT
BEGIN:VEVENT
DTSTART;TZID=Asia/Singapore:20201106T090000
DTEND;TZID=Asia/Singapore:20201106T120000
DTSTAMP:20260419T231419
CREATED:20200730T051706Z
LAST-MODIFIED:20200730T060033Z
UID:10478-1604653200-1604664000@isep.nus.edu.sg
SUMMARY:GSN6501 - Neuronal Signalling
DESCRIPTION:Lecture
URL:https://isep.nus.edu.sg/event/gsn6501-neuronal-signalling/
LOCATION:via Zoom\, Singapore
CATEGORIES:Modules
END:VEVENT
BEGIN:VEVENT
DTSTART;TZID=Asia/Singapore:20201109T150000
DTEND;TZID=Asia/Singapore:20201109T150000
DTSTAMP:20260419T231419
CREATED:20200730T051108Z
LAST-MODIFIED:20200730T052633Z
UID:10429-1604934000-1604934000@isep.nus.edu.sg
SUMMARY:GS6883A - Interface Sciences and Engineering
DESCRIPTION:Presentation
URL:https://isep.nus.edu.sg/event/gs6883a-interface-sciences-and-engineering-2/
LOCATION:via Zoom\, Singapore
CATEGORIES:Modules
END:VEVENT
BEGIN:VEVENT
DTSTART;TZID=Asia/Singapore:20201113T150000
DTEND;TZID=Asia/Singapore:20201113T170000
DTSTAMP:20260419T231419
CREATED:20201104T021415Z
LAST-MODIFIED:20201104T021415Z
UID:11060-1605279600-1605286800@isep.nus.edu.sg
SUMMARY:Oral Defense: Zhou Yan
DESCRIPTION:Light Field Manipulation via Engineered Microsphere for Optical Nano-imaging
URL:https://isep.nus.edu.sg/event/oral-defense-zhou-yan/
LOCATION:via Zoom\, Singapore
CATEGORIES:Oral Defense
END:VEVENT
BEGIN:VEVENT
DTSTART;TZID=Asia/Singapore:20201117T150000
DTEND;TZID=Asia/Singapore:20201117T170000
DTSTAMP:20260419T231419
CREATED:20201104T021235Z
LAST-MODIFIED:20201104T021235Z
UID:11061-1605625200-1605632400@isep.nus.edu.sg
SUMMARY:Oral Defense: Tang Ming Yi Richard
DESCRIPTION:Uptake and Tissue Distribution of Ergothioneine and Its In Vivo Role During Oxidative Stress
URL:https://isep.nus.edu.sg/event/oral-defense-tang-ming-yi-richard/
LOCATION:via Zoom\, Singapore
CATEGORIES:Oral Defense
END:VEVENT
BEGIN:VEVENT
DTSTART;TZID=Asia/Singapore:20201120T103000
DTEND;TZID=Asia/Singapore:20201120T123000
DTSTAMP:20260419T231419
CREATED:20201104T021116Z
LAST-MODIFIED:20201104T021116Z
UID:11062-1605868200-1605875400@isep.nus.edu.sg
SUMMARY:Oral Defense: Lu Zhenna
DESCRIPTION:Temporal Decision Making: Psychophysical\, Neurophysiological\, and Computational Perspectives
URL:https://isep.nus.edu.sg/event/oral-defense-lu-zhenna/
LOCATION:via Zoom\, Singapore
CATEGORIES:Oral Defense
END:VEVENT
BEGIN:VEVENT
DTSTART;TZID=Asia/Singapore:20201123T100000
DTEND;TZID=Asia/Singapore:20201123T120000
DTSTAMP:20260419T231419
CREATED:20201104T021023Z
LAST-MODIFIED:20201104T021023Z
UID:11063-1606125600-1606132800@isep.nus.edu.sg
SUMMARY:Oral Defense: Jin Yuejiao
DESCRIPTION:Biomechanical Response of the Optic Nerve Head to the Ocular Pulse
URL:https://isep.nus.edu.sg/event/oral-defense-jin-yuejiao/
LOCATION:via Zoom\, Singapore
CATEGORIES:Oral Defense
END:VEVENT
BEGIN:VEVENT
DTSTART;TZID=Asia/Singapore:20201123T150000
DTEND;TZID=Asia/Singapore:20201123T150000
DTSTAMP:20260419T231419
CREATED:20200730T051107Z
LAST-MODIFIED:20200730T052633Z
UID:10430-1606143600-1606143600@isep.nus.edu.sg
SUMMARY:GS6883A - Interface Sciences and Engineering
DESCRIPTION:Exam
URL:https://isep.nus.edu.sg/event/gs6883a-interface-sciences-and-engineering/
LOCATION:via Zoom\, Singapore
CATEGORIES:Modules
END:VEVENT
BEGIN:VEVENT
DTSTART;TZID=Asia/Singapore:20201124T160000
DTEND;TZID=Asia/Singapore:20201124T180000
DTSTAMP:20260419T231419
CREATED:20201104T020015Z
LAST-MODIFIED:20201104T020015Z
UID:11066-1606233600-1606240800@isep.nus.edu.sg
SUMMARY:Oral Defense: Muhammad Huzaifah bin Md Shahrin
DESCRIPTION:Directed Audio Texture Synthesis With Deep Learning
URL:https://isep.nus.edu.sg/event/oral-defense-muhammad-huzaifah-bin-md-shahrin/
LOCATION:via Zoom\, Singapore
CATEGORIES:Oral Defense
END:VEVENT
BEGIN:VEVENT
DTSTART;TZID=Asia/Singapore:20201125T100000
DTEND;TZID=Asia/Singapore:20201125T120000
DTSTAMP:20260419T231419
CREATED:20201104T020925Z
LAST-MODIFIED:20201116T074234Z
UID:11064-1606298400-1606305600@isep.nus.edu.sg
SUMMARY:Oral Defense: Ng Zhen Quan Cavin
DESCRIPTION:Mutli-functional Covellite Prepared via RF Magnetron Spluttering
URL:https://isep.nus.edu.sg/event/oral-defense-ng-zhen-quan-cavin/
LOCATION:via Zoom\, Singapore
CATEGORIES:Oral Defense
END:VEVENT
BEGIN:VEVENT
DTSTART;TZID=Asia/Singapore:20201126T140000
DTEND;TZID=Asia/Singapore:20201126T140000
DTSTAMP:20260419T231419
CREATED:20200730T051110Z
LAST-MODIFIED:20200730T052626Z
UID:10420-1606399200-1606399200@isep.nus.edu.sg
SUMMARY:GS6001: Research ethics and scientific integrity
DESCRIPTION:Exam
URL:https://isep.nus.edu.sg/event/gs6001-research-ethics-and-scientific-integrity/
LOCATION:via Zoom\, Singapore
CATEGORIES:Modules
END:VEVENT
BEGIN:VEVENT
DTSTART;TZID=Asia/Singapore:20201127T150000
DTEND;TZID=Asia/Singapore:20201127T170000
DTSTAMP:20260419T231419
CREATED:20201104T015915Z
LAST-MODIFIED:20201104T015915Z
UID:11067-1606489200-1606496400@isep.nus.edu.sg
SUMMARY:Oral Defense: Debjyoti Ghosh
DESCRIPTION:Voice-Based Interactions for Editing Text on the Go
URL:https://isep.nus.edu.sg/event/oral-defense-debjyoti-ghosh/
LOCATION:via Zoom\, Singapore
CATEGORIES:Oral Defense
END:VEVENT
END:VCALENDAR